BEGIN:VCALENDAR
VERSION:2.0
PRODID:-//wenatcheeriverinstitute.org//NONSGML kigkonsult.se iCalcreator 2.
 30.10//
CALSCALE:GREGORIAN
METHOD:PUBLISH
UID:4a5c923c-0d94-4a96-af4a-8c9c997904f0
X-WR-CALDESC:
X-WR-RELCALID:54b8e00a16fcab3dd934fce722504853
X-WR-TIMEZONE:America/Los_Angeles
BEGIN:VTIMEZONE
TZID:America/Los_Angeles
BEGIN:STANDARD
TZNAME:PST
DTSTART:20181104T020000
TZOFFSETFROM:-0700
TZOFFSETTO:-0800
RDATE:20191103T020000
END:STANDARD
BEGIN:DAYLIGHT
TZNAME:PDT
DTSTART:20190310T020000
TZOFFSETFROM:-0800
TZOFFSETTO:-0700
RDATE:20200308T020000
END:DAYLIGHT
END:VTIMEZONE
BEGIN:VEVENT
UID:3347dca2-9126-42ca-8a81-bcb06684ebee
DTSTAMP:20260426T022438Z
DESCRIPTION:
DTSTART;TZID=America/Los_Angeles:20190430T090000
DTEND;TZID=America/Los_Angeles:20190503T140000
LOCATION:
SUMMARY:Youth Field Days: Wild Birds (bird food)
END:VEVENT
END:VCALENDAR
