BEGIN:VCALENDAR
VERSION:2.0
PRODID:-//wenatcheeriverinstitute.org//NONSGML kigkonsult.se iCalcreator 2.
 30.10//
CALSCALE:GREGORIAN
METHOD:PUBLISH
UID:ef72e021-7f3f-4e91-b9ac-edddaf0ebd14
X-WR-CALDESC:Traveling Naturalist After School Program - bringing Wenatchee
  River Institute hands-on science education programming to Wenatchee Schoo
 l District After School Program.\n\nMonday - Mission View Elementary & Col
 umbia Elementary\nTuesday - Lincoln Elementary & Lincoln Elementary\nWedne
 sday - Columbia Elementary & Lewis and Clark Elementary\nThursday - Columb
 ia Elementary & Mission View Elementary
X-WR-RELCALID:afe9ab916d631e2723ad81412eea77e7
X-WR-TIMEZONE:America/Los_Angeles
BEGIN:VTIMEZONE
TZID:America/Los_Angeles
BEGIN:STANDARD
TZNAME:PST
DTSTART:20181104T020000
TZOFFSETFROM:-0700
TZOFFSETTO:-0800
RDATE:20191103T020000
END:STANDARD
BEGIN:DAYLIGHT
TZNAME:PDT
DTSTART:20190310T020000
TZOFFSETFROM:-0800
TZOFFSETTO:-0700
RDATE:20200308T020000
END:DAYLIGHT
END:VTIMEZONE
BEGIN:VEVENT
UID:9a5d9d47-9b41-43e0-b9b2-ade76142c368
DTSTAMP:20260426T021152Z
DESCRIPTION:Traveling Naturalist After School Program - bringing Wenatchee 
 River Institute hands-on science education programming to Wenatchee School
  District After School Program.\n\nMonday - Mission View Elementary & Colu
 mbia Elementary\nTuesday - Lincoln Elementary & Lincoln Elementary\nWednes
 day - Columbia Elementary & Lewis and Clark Elementary\nThursday - Columbi
 a Elementary & Mission View Elementary
DTSTART;TZID=America/Los_Angeles:20190502T150000
DTEND;TZID=America/Los_Angeles:20190502T170000
LOCATION:
SUMMARY:Traveling Naturalist After School Program
END:VEVENT
END:VCALENDAR
