BEGIN:VCALENDAR
VERSION:2.0
PRODID:-//wenatcheeriverinstitute.org//NONSGML kigkonsult.se iCalcreator 2.
 30.10//
CALSCALE:GREGORIAN
METHOD:PUBLISH
UID:fb8a6c31-caac-4160-9da3-78db219c1a9b
X-WR-CALDESC:Traveling Naturalist After School Program - bringing Wenatchee
  River Institute hands-on science education programming to Wenatchee Schoo
 l District After School Program.\n\nMonday - Mission View Elementary & Col
 umbia Elementary\nTuesday - Lincoln Elementary & Lincoln Elementary\nWedne
 sday - Columbia Elementary & Lewis and Clark Elementary\nThursday - Columb
 ia Elementary & Mission View Elementary
X-WR-RELCALID:3001d41969c4970be8f8a1ced33ce3ef
X-WR-TIMEZONE:America/Los_Angeles
BEGIN:VTIMEZONE
TZID:America/Los_Angeles
BEGIN:STANDARD
TZNAME:PST
DTSTART:20181104T020000
TZOFFSETFROM:-0700
TZOFFSETTO:-0800
RDATE:20191103T020000
RDATE:20201101T020000
END:STANDARD
BEGIN:DAYLIGHT
TZNAME:PDT
DTSTART:20190310T020000
TZOFFSETFROM:-0800
TZOFFSETTO:-0700
RDATE:20200308T020000
END:DAYLIGHT
END:VTIMEZONE
BEGIN:VEVENT
UID:938b0a2f-7e28-4a7f-92e2-d10ca3de8000
DTSTAMP:20260426T022134Z
DESCRIPTION:Traveling Naturalist After School Program - bringing Wenatchee 
 River Institute hands-on science education programming to Wenatchee School
  District After School Program.\n\nMonday - Mission View Elementary & Colu
 mbia Elementary\nTuesday - Lincoln Elementary & Lincoln Elementary\nWednes
 day - Columbia Elementary & Lewis and Clark Elementary\nThursday - Columbi
 a Elementary & Mission View Elementary
DTSTART;TZID=America/Los_Angeles:20190507T150000
DTEND;TZID=America/Los_Angeles:20190507T170000
LOCATION:
SUMMARY:Traveling Naturalist After School Program
END:VEVENT
END:VCALENDAR
