BEGIN:VCALENDAR
VERSION:2.0
PRODID:-//wenatcheeriverinstitute.org//NONSGML kigkonsult.se iCalcreator 2.
 30.10//
CALSCALE:GREGORIAN
METHOD:PUBLISH
UID:db728316-ee83-4dbb-b9b1-cbd436a82060
X-WR-CALDESC:Join WRI and Bill Gaines for a chat on how wildfires in the re
 gion may be affecting Canada Lynx.\nIn the high elevation forests in the f
 ar north of Washington lives an elusive and secretive cat\, known as the C
 anada lynx. After studying lynx for many years\, biologists are beginning 
 to understand how they make a living\, what habitats are most important\, 
 and how the recent large and intense fires may be affecting their future. 
 Join wildlife biologist Bill Gaines as he shares stories about his studies
  of these amazing animals.\n\nTalk begins at 8pm\nWenatchee Valley Brewing
  Co\, 108 E Island View St Wenatchee\, WA\n\nCome a little early to purcha
 se a beverage and raffle tickets!
X-WR-RELCALID:f58cce4907169791e65b2f50215fdf69
X-WR-TIMEZONE:America/Los_Angeles
BEGIN:VTIMEZONE
TZID:America/Los_Angeles
BEGIN:STANDARD
TZNAME:PST
DTSTART:20181104T020000
TZOFFSETFROM:-0700
TZOFFSETTO:-0800
RDATE:20191103T020000
RDATE:20201101T020000
END:STANDARD
BEGIN:DAYLIGHT
TZNAME:PDT
DTSTART:20190310T020000
TZOFFSETFROM:-0800
TZOFFSETTO:-0700
RDATE:20200308T020000
END:DAYLIGHT
END:VTIMEZONE
BEGIN:VEVENT
UID:09275a93-ed15-4c1d-b01a-44e703430d61
DTSTAMP:20260426T020947Z
DESCRIPTION:Join WRI and Bill Gaines for a chat on how wildfires in the reg
 ion may be affecting Canada Lynx.\nIn the high elevation forests in the fa
 r north of Washington lives an elusive and secretive cat\, known as the Ca
 nada lynx. After studying lynx for many years\, biologists are beginning t
 o understand how they make a living\, what habitats are most important\, a
 nd how the recent large and intense fires may be affecting their future. J
 oin wildlife biologist Bill Gaines as he shares stories about his studies 
 of these amazing animals.\n\nTalk begins at 8pm\nWenatchee Valley Brewing 
 Co\, 108 E Island View St Wenatchee\, WA\n\nCome a little early to purchas
 e a beverage and raffle tickets!
DTSTART;TZID=America/Los_Angeles:20190508T200000
DTEND;TZID=America/Los_Angeles:20190508T210000
LOCATION:Wenatchee Valley Brewing Company
SUMMARY:Science on Tap! Wildfire and Canada Lynx
END:VEVENT
END:VCALENDAR
