BEGIN:VCALENDAR
VERSION:2.0
PRODID:-//wenatcheeriverinstitute.org//NONSGML kigkonsult.se iCalcreator 2.
 30.10//
CALSCALE:GREGORIAN
METHOD:PUBLISH
UID:4a405125-9bee-49c1-88ed-7936bdbbe7e3
X-WR-CALDESC:The forests of North Central Washington are stocked full of mu
 shrooms! Join us and local mushroomer Lyndsay Mynatt to learn about our lo
 cal fungi and spend time outside foraging!\n\nClass starts at 9am. The mor
 ning will be spent learning about some of the mushroom species we may see 
 while foraging\, note taking and sketching. We will then all pile into the
  WRI Otter Van and head into the field for a couple hours of looking for a
 nd collecting our wild mushrooms. The class will end back in the Red Barn 
 with time for specific identification of mushrooms found\, concluding with
  tips for cooking and preserving!\nClass price: $20/person\nLimit of 13 pa
 rticipants!
X-WR-RELCALID:713279ba2eff6f5e8e8592d78f26ffda
X-WR-TIMEZONE:America/Los_Angeles
BEGIN:VTIMEZONE
TZID:America/Los_Angeles
BEGIN:STANDARD
TZNAME:PST
DTSTART:20181104T020000
TZOFFSETFROM:-0700
TZOFFSETTO:-0800
RDATE:20191103T020000
RDATE:20201101T020000
END:STANDARD
BEGIN:DAYLIGHT
TZNAME:PDT
DTSTART:20190310T020000
TZOFFSETFROM:-0800
TZOFFSETTO:-0700
RDATE:20200308T020000
END:DAYLIGHT
END:VTIMEZONE
BEGIN:VEVENT
UID:1e68f6c9-d295-41a1-91b7-7cbd461e3f8d
DTSTAMP:20260426T020907Z
DESCRIPTION:The forests of North Central Washington are stocked full of mus
 hrooms! Join us and local mushroomer Lyndsay Mynatt to learn about our loc
 al fungi and spend time outside foraging!\n\nClass starts at 9am. The morn
 ing will be spent learning about some of the mushroom species we may see w
 hile foraging\, note taking and sketching. We will then all pile into the 
 WRI Otter Van and head into the field for a couple hours of looking for an
 d collecting our wild mushrooms. The class will end back in the Red Barn w
 ith time for specific identification of mushrooms found\, concluding with 
 tips for cooking and preserving!\nClass price: $20/person\nLimit of 13 par
 ticipants!
DTSTART;TZID=America/Los_Angeles:20190511T090000
DTEND;TZID=America/Los_Angeles:20190511T140000
LOCATION:Red Barn
SUMMARY:Spring Mushroom Forage
END:VEVENT
END:VCALENDAR
