BEGIN:VCALENDAR
VERSION:2.0
PRODID:-//wenatcheeriverinstitute.org//NONSGML kigkonsult.se iCalcreator 2.
 30.10//
CALSCALE:GREGORIAN
METHOD:PUBLISH
UID:d811052b-c0d3-4c72-b1ec-2b9f5a2470a3
X-WR-CALDESC:Traveling Naturalist After School Program - bringing Wenatchee
  River Institute hands-on science education programming to Wenatchee Schoo
 l District After School Program.\n\nMonday - Mission View Elementary & Col
 umbia Elementary\nTuesday - Lincoln Elementary & Lincoln Elementary\nWedne
 sday - Columbia Elementary & Lewis and Clark Elementary\nThursday - Columb
 ia Elementary & Mission View Elementary
X-WR-RELCALID:b4152b941c55423ef1045e33a3737399
X-WR-TIMEZONE:America/Los_Angeles
BEGIN:VTIMEZONE
TZID:America/Los_Angeles
BEGIN:STANDARD
TZNAME:PST
DTSTART:20181104T020000
TZOFFSETFROM:-0700
TZOFFSETTO:-0800
RDATE:20191103T020000
RDATE:20201101T020000
END:STANDARD
BEGIN:DAYLIGHT
TZNAME:PDT
DTSTART:20190310T020000
TZOFFSETFROM:-0800
TZOFFSETTO:-0700
RDATE:20200308T020000
END:DAYLIGHT
END:VTIMEZONE
BEGIN:VEVENT
UID:494d9ffa-68b5-43ed-a3bc-412129256d91
DTSTAMP:20260426T021116Z
DESCRIPTION:Traveling Naturalist After School Program - bringing Wenatchee 
 River Institute hands-on science education programming to Wenatchee School
  District After School Program.\n\nMonday - Mission View Elementary & Colu
 mbia Elementary\nTuesday - Lincoln Elementary & Lincoln Elementary\nWednes
 day - Columbia Elementary & Lewis and Clark Elementary\nThursday - Columbi
 a Elementary & Mission View Elementary
DTSTART;TZID=America/Los_Angeles:20190513T150000
DTEND;TZID=America/Los_Angeles:20190513T170000
LOCATION:
SUMMARY:Traveling Naturalist After School Program
END:VEVENT
END:VCALENDAR
