BEGIN:VCALENDAR
VERSION:2.0
PRODID:-//wenatcheeriverinstitute.org//NONSGML kigkonsult.se iCalcreator 2.
 30.10//
CALSCALE:GREGORIAN
METHOD:PUBLISH
UID:7473b030-0a79-4f1a-a253-e2afa553de49
X-WR-CALDESC:Celebrate the return of migratory birds in the midst of peak w
 ildflower season\, while enjoying field trips\, events and free family act
 ivities for all ages and abilities in Leavenworth\, Washington and through
 out the Wenatchee River valley!\n\nKeynote Speaker Richard Crossley is an 
 internationally acclaimed birder\, photographer and award-winning author o
 f ‘The Crossley ID Guide’ series. A Yorkshireman\, sometimes called crazy 
 (his badge of honor)\, wildly passionate\, and driven\, a birder who will 
 entertain and inspire you to see more!
X-WR-RELCALID:4d38f04c18b8c569aa08bf41fbdc3245
X-WR-TIMEZONE:America/Los_Angeles
BEGIN:VTIMEZONE
TZID:America/Los_Angeles
BEGIN:STANDARD
TZNAME:PST
DTSTART:20181104T020000
TZOFFSETFROM:-0700
TZOFFSETTO:-0800
RDATE:20191103T020000
RDATE:20201101T020000
END:STANDARD
BEGIN:DAYLIGHT
TZNAME:PDT
DTSTART:20190310T020000
TZOFFSETFROM:-0800
TZOFFSETTO:-0700
RDATE:20200308T020000
END:DAYLIGHT
END:VTIMEZONE
BEGIN:VEVENT
UID:0baf9f40-4f7f-4628-9cfa-9455840a765a
DTSTAMP:20260426T021004Z
DESCRIPTION:Celebrate the return of migratory birds in the midst of peak wi
 ldflower season\, while enjoying field trips\, events and free family acti
 vities for all ages and abilities in Leavenworth\, Washington and througho
 ut the Wenatchee River valley!\n\nKeynote Speaker Richard Crossley is an i
 nternationally acclaimed birder\, photographer and award-winning author of
  ‘The Crossley ID Guide’ series. A Yorkshireman\, sometimes called crazy (
 his badge of honor)\, wildly passionate\, and driven\, a birder who will e
 ntertain and inspire you to see more!
DTSTART;TZID=America/Los_Angeles:20190516T000000
DTEND;TZID=America/Los_Angeles:20190520T235900
LOCATION:Barn Beach Reserve | 347 Division St. Leavenworth
SUMMARY:Leavenworth Spring Bird Fest
END:VEVENT
END:VCALENDAR
