BEGIN:VCALENDAR
VERSION:2.0
PRODID:-//wenatcheeriverinstitute.org//NONSGML kigkonsult.se iCalcreator 2.
 30.10//
CALSCALE:GREGORIAN
METHOD:PUBLISH
UID:f617eaaf-b06e-4dbf-b338-615eac8c896c
X-WR-CALDESC:The Marlin Handbell Ringers and Friends Celebrate Community an
 d Spring in a Bird Fest tradition! Enjoy the talent and artistry of these 
 beloved local performers at Snowy Owl Theater. Come early to browse the Bi
 rd Fest Art show! Suggested donation.
X-WR-RELCALID:f9d7a3910c76ab926db8fc1c98edbbc9
X-WR-TIMEZONE:America/Los_Angeles
BEGIN:VTIMEZONE
TZID:America/Los_Angeles
BEGIN:STANDARD
TZNAME:PST
DTSTART:20181104T020000
TZOFFSETFROM:-0700
TZOFFSETTO:-0800
RDATE:20191103T020000
RDATE:20201101T020000
END:STANDARD
BEGIN:DAYLIGHT
TZNAME:PDT
DTSTART:20190310T020000
TZOFFSETFROM:-0800
TZOFFSETTO:-0700
RDATE:20200308T020000
END:DAYLIGHT
END:VTIMEZONE
BEGIN:VEVENT
UID:c386936f-2fd9-4d29-96eb-17efb7bd47ef
DTSTAMP:20260426T022448Z
DESCRIPTION:The Marlin Handbell Ringers and Friends Celebrate Community and
  Spring in a Bird Fest tradition! Enjoy the talent and artistry of these b
 eloved local performers at Snowy Owl Theater. Come early to browse the Bir
 d Fest Art show! Suggested donation.
DTSTART;TZID=America/Los_Angeles:20190516T190000
DTEND;TZID=America/Los_Angeles:20190516T203000
LOCATION:Icicle Creek Center for the Arts\, Snowy Owl Theater | 7409 Icicle
  Rd\, Leavenworth
SUMMARY:Song Bird Concert - Leavenworth Spring Bird Fest event
END:VEVENT
END:VCALENDAR
