BEGIN:VCALENDAR
VERSION:2.0
PRODID:-//wenatcheeriverinstitute.org//NONSGML kigkonsult.se iCalcreator 2.
 30.10//
CALSCALE:GREGORIAN
METHOD:PUBLISH
UID:6a5761e6-39f8-4f32-93a8-25c8437e35d3
X-WR-CALDESC:
X-WR-RELCALID:b64f3c60cc57ce6fcea14411c8c79071
X-WR-TIMEZONE:America/Los_Angeles
BEGIN:VTIMEZONE
TZID:America/Los_Angeles
BEGIN:STANDARD
TZNAME:PST
DTSTART:20181104T020000
TZOFFSETFROM:-0700
TZOFFSETTO:-0800
RDATE:20191103T020000
RDATE:20201101T020000
END:STANDARD
BEGIN:DAYLIGHT
TZNAME:PDT
DTSTART:20190310T020000
TZOFFSETFROM:-0800
TZOFFSETTO:-0700
RDATE:20200308T020000
END:DAYLIGHT
END:VTIMEZONE
BEGIN:VEVENT
UID:67a5791d-a680-45c5-86cb-c1f7a134a6f8
DTSTAMP:20260426T022448Z
DESCRIPTION:
DTSTART;TZID=America/Los_Angeles:20190516T090000
DTEND;TZID=America/Los_Angeles:20190517T140000
LOCATION:
SUMMARY:Youth Field Days: Wild Birds (songs & migration)
END:VEVENT
END:VCALENDAR
