BEGIN:VCALENDAR
VERSION:2.0
PRODID:-//wenatcheeriverinstitute.org//NONSGML kigkonsult.se iCalcreator 2.
 30.10//
CALSCALE:GREGORIAN
METHOD:PUBLISH
UID:fc0a5bf1-c05e-41ff-82d4-8df01a74bd95
X-WR-CALDESC:A Bird Fest Tradition! Join us Red at Tail Canyon Farm for del
 icious BBQ fare including pulled pork sandwiches\, salads\, and Marianne’s
  homemade pies! Dinner is served outside in breathtaking Leavenworth scene
 ry. Unwind and enjoy bluegrass music by The Scenic Route and brag about yo
 ur birds!\nGroup Limit 100 | $18 / $21\nVegetarian? Please contact WRI Pro
 grams\, 509-548-0181 ext. 2
X-WR-RELCALID:cb6bff381b22f3015b5af246d79d84ea
X-WR-TIMEZONE:America/Los_Angeles
BEGIN:VTIMEZONE
TZID:America/Los_Angeles
BEGIN:STANDARD
TZNAME:PST
DTSTART:20181104T020000
TZOFFSETFROM:-0700
TZOFFSETTO:-0800
RDATE:20191103T020000
RDATE:20201101T020000
END:STANDARD
BEGIN:DAYLIGHT
TZNAME:PDT
DTSTART:20190310T020000
TZOFFSETFROM:-0800
TZOFFSETTO:-0700
RDATE:20200308T020000
END:DAYLIGHT
END:VTIMEZONE
BEGIN:VEVENT
UID:1da9543a-58b8-431d-8186-6f5dc9935ab5
DTSTAMP:20260426T021341Z
DESCRIPTION:A Bird Fest Tradition! Join us Red at Tail Canyon Farm for deli
 cious BBQ fare including pulled pork sandwiches\, salads\, and Marianne’s 
 homemade pies! Dinner is served outside in breathtaking Leavenworth scener
 y. Unwind and enjoy bluegrass music by The Scenic Route and brag about you
 r birds!\nGroup Limit 100 | $18 / $21\nVegetarian? Please contact WRI Prog
 rams\, 509-548-0181 ext. 2
DTSTART;TZID=America/Los_Angeles:20190518T170000
DTEND;TZID=America/Los_Angeles:20190518T183000
LOCATION:Red Tail Canyon Farm | 11780 Freund Canyon Rd\, Leavenworth
SUMMARY:Birders BBQ - Leavenworth Spring Bird Fest event
END:VEVENT
END:VCALENDAR
