BEGIN:VCALENDAR
VERSION:2.0
PRODID:-//wenatcheeriverinstitute.org//NONSGML kigkonsult.se iCalcreator 2.
 30.10//
CALSCALE:GREGORIAN
METHOD:PUBLISH
UID:8ef11262-15dd-4c27-b529-9828c2ef05ff
X-WR-CALDESC:Join area naturalists from the Wenatchee River Institute for a
  FREE guided spring tour along the Waterfront Park Trail in Leavenworth. L
 earn about local and migratory birds\, flowers\, cultural history and more
 . \n\nMeet at 347 Division St. 10AM. Drop-Ins Welcome\n\nReservations appr
 eciated and required for groups of 8+
X-WR-RELCALID:ccfc22ca519d672f096cda3035d1384b
X-WR-TIMEZONE:America/Los_Angeles
BEGIN:VTIMEZONE
TZID:America/Los_Angeles
BEGIN:STANDARD
TZNAME:PST
DTSTART:20181104T020000
TZOFFSETFROM:-0700
TZOFFSETTO:-0800
RDATE:20191103T020000
RDATE:20201101T020000
END:STANDARD
BEGIN:DAYLIGHT
TZNAME:PDT
DTSTART:20190310T020000
TZOFFSETFROM:-0800
TZOFFSETTO:-0700
RDATE:20200308T020000
END:DAYLIGHT
END:VTIMEZONE
BEGIN:VEVENT
UID:f8857bfb-a149-4b10-8771-6e0a736689b3
DTSTAMP:20260426T020821Z
DESCRIPTION:Join area naturalists from the Wenatchee River Institute for a 
 FREE guided spring tour along the Waterfront Park Trail in Leavenworth. Le
 arn about local and migratory birds\, flowers\, cultural history and more.
  \n\nMeet at 347 Division St. 10AM. Drop-Ins Welcome\n\nReservations appre
 ciated and required for groups of 8+
DTSTART;TZID=America/Los_Angeles:20190524T100000
DTEND;TZID=America/Los_Angeles:20190524T120000
LOCATION:Waterfront Park Trail
SUMMARY:Spring Saunters
END:VEVENT
END:VCALENDAR
