BEGIN:VCALENDAR
VERSION:2.0
PRODID:-//wenatcheeriverinstitute.org//NONSGML kigkonsult.se iCalcreator 2.
 30.10//
CALSCALE:GREGORIAN
METHOD:PUBLISH
UID:15a849c6-3bd5-4870-ba3c-405b93309980
X-WR-CALDESC:
X-WR-RELCALID:d4e9a0f4b5363154d3c91647569179d5
X-WR-TIMEZONE:America/Los_Angeles
BEGIN:VTIMEZONE
TZID:America/Los_Angeles
BEGIN:STANDARD
TZNAME:PST
DTSTART:20181104T020000
TZOFFSETFROM:-0700
TZOFFSETTO:-0800
RDATE:20191103T020000
RDATE:20201101T020000
END:STANDARD
BEGIN:DAYLIGHT
TZNAME:PDT
DTSTART:20190310T020000
TZOFFSETFROM:-0800
TZOFFSETTO:-0700
RDATE:20200308T020000
END:DAYLIGHT
END:VTIMEZONE
BEGIN:VEVENT
UID:7bf45c54-7a6f-4ba9-ad64-702d105daef0
DTSTAMP:20260426T022449Z
DESCRIPTION:
DTSTART;TZID=America/Los_Angeles:20190528T090000
DTEND;TZID=America/Los_Angeles:20190529T140000
LOCATION:
SUMMARY:Youth Field Days: Habitat Detectives
END:VEVENT
END:VCALENDAR
