BEGIN:VCALENDAR
VERSION:2.0
PRODID:-//wenatcheeriverinstitute.org//NONSGML kigkonsult.se iCalcreator 2.
 30.10//
CALSCALE:GREGORIAN
METHOD:PUBLISH
UID:e4a625fd-7723-4f3b-81f8-b13a8441df61
X-WR-CALDESC:History of the Salmon Decline in the Columbia River: Jason Lun
 dgren\, Cascade Columbia Fisheries Enhancement Group Executive Director\nD
 oors open at 6:30pm for community social and no-host refreshments\, presen
 tation begins at 7pm. \n\nThis Red Barn Event speaker is co-sponsored by W
 enatchee River Institute\, Trout Unlimited\, and Cascade Columbia Fisherie
 s Enhancement Group (CCFEG). Jason Lundgren\, Executive Director of CCFEG\
 , will be presenting and offering a slideshow on the history of the salmon
  decline in the Columbia River.\n\nA graduate of the Evergreen State Colle
 ge in Olympia\, Jason has been involved in fisheries and natural resources
  for many years. An avid angler\, Jason previously worked for the South Pu
 get Sound Salmon Enhancement Group\, CCFEG's counterpart in Olympia\, befo
 re moving on to a role with the Salmon Recovery Funding Board. As the Exec
 utive Director of CCFEG\, Jason is very excited to be involved in salmon r
 ecovery in such a vibrant area. He is also on the board of directors for T
 rout Unlimited.\n\n Jason lives in Leavenworth with his wife\, three child
 ren and George\, the family dog.\n
X-WR-RELCALID:0f985bb7921fc22494aaae54e4af8ea5
X-WR-TIMEZONE:America/Los_Angeles
BEGIN:VTIMEZONE
TZID:America/Los_Angeles
BEGIN:STANDARD
TZNAME:PST
DTSTART:20181104T020000
TZOFFSETFROM:-0700
TZOFFSETTO:-0800
RDATE:20191103T020000
RDATE:20201101T020000
END:STANDARD
BEGIN:DAYLIGHT
TZNAME:PDT
DTSTART:20190310T020000
TZOFFSETFROM:-0800
TZOFFSETTO:-0700
RDATE:20200308T020000
END:DAYLIGHT
END:VTIMEZONE
BEGIN:VEVENT
UID:c1de7704-f503-4e04-b0e4-b9b82ead07f2
DTSTAMP:20260424T093121Z
DESCRIPTION:History of the Salmon Decline in the Columbia River: Jason Lund
 gren\, Cascade Columbia Fisheries Enhancement Group Executive Director\nDo
 ors open at 6:30pm for community social and no-host refreshments\, present
 ation begins at 7pm. \n\nThis Red Barn Event speaker is co-sponsored by We
 natchee River Institute\, Trout Unlimited\, and Cascade Columbia Fisheries
  Enhancement Group (CCFEG). Jason Lundgren\, Executive Director of CCFEG\,
  will be presenting and offering a slideshow on the history of the salmon 
 decline in the Columbia River.\n\nA graduate of the Evergreen State Colleg
 e in Olympia\, Jason has been involved in fisheries and natural resources 
 for many years. An avid angler\, Jason previously worked for the South Pug
 et Sound Salmon Enhancement Group\, CCFEG's counterpart in Olympia\, befor
 e moving on to a role with the Salmon Recovery Funding Board. As the Execu
 tive Director of CCFEG\, Jason is very excited to be involved in salmon re
 covery in such a vibrant area. He is also on the board of directors for Tr
 out Unlimited.\n\n Jason lives in Leavenworth with his wife\, three childr
 en and George\, the family dog.\n
DTSTART;TZID=America/Los_Angeles:20190529T190000
DTEND;TZID=America/Los_Angeles:20190529T203000
LOCATION:Red Barn\, 347 Division Street\, Leavenworth
SUMMARY:History of the Salmon Decline in the Columbia River
END:VEVENT
END:VCALENDAR
