BEGIN:VCALENDAR
VERSION:2.0
PRODID:-//wenatcheeriverinstitute.org//NONSGML kigkonsult.se iCalcreator 2.
 30.10//
CALSCALE:GREGORIAN
METHOD:PUBLISH
UID:a4549ca8-98d7-4738-867c-3d5f72cf426c
X-WR-CALDESC:
X-WR-RELCALID:ec4ed936e050425b19ce95c51566ed54
X-WR-TIMEZONE:America/Los_Angeles
BEGIN:VTIMEZONE
TZID:America/Los_Angeles
BEGIN:STANDARD
TZNAME:PST
DTSTART:20181104T020000
TZOFFSETFROM:-0700
TZOFFSETTO:-0800
RDATE:20191103T020000
RDATE:20201101T020000
END:STANDARD
BEGIN:DAYLIGHT
TZNAME:PDT
DTSTART:20190310T020000
TZOFFSETFROM:-0800
TZOFFSETTO:-0700
RDATE:20200308T020000
END:DAYLIGHT
END:VTIMEZONE
BEGIN:VEVENT
UID:15813afa-e910-4ec5-b57d-caa17e28d5e8
DTSTAMP:20260426T004300Z
DESCRIPTION:
DTSTART;TZID=America/Los_Angeles:20190604T090000
DTEND;TZID=America/Los_Angeles:20190605T140000
LOCATION:
SUMMARY:Youth Field Days: Earth Explorers
END:VEVENT
END:VCALENDAR
