BEGIN:VCALENDAR
VERSION:2.0
PRODID:-//wenatcheeriverinstitute.org//NONSGML kigkonsult.se iCalcreator 2.
 30.10//
CALSCALE:GREGORIAN
METHOD:PUBLISH
UID:551cbc11-d007-426a-8d4b-4767f10804df
X-WR-CALDESC:
X-WR-RELCALID:ba5700fd154281c4cd76f19025da888e
X-WR-TIMEZONE:America/Los_Angeles
BEGIN:VTIMEZONE
TZID:America/Los_Angeles
BEGIN:STANDARD
TZNAME:PST
DTSTART:20181104T020000
TZOFFSETFROM:-0700
TZOFFSETTO:-0800
RDATE:20191103T020000
RDATE:20201101T020000
END:STANDARD
BEGIN:DAYLIGHT
TZNAME:PDT
DTSTART:20190310T020000
TZOFFSETFROM:-0800
TZOFFSETTO:-0700
RDATE:20200308T020000
END:DAYLIGHT
END:VTIMEZONE
BEGIN:VEVENT
UID:739d3a0c-b975-40ba-bd34-564c66ef11ee
DTSTAMP:20260426T004808Z
DESCRIPTION:
DTSTART;TZID=America/Los_Angeles:20190606T090000
DTEND;TZID=America/Los_Angeles:20190607T140000
LOCATION:
SUMMARY:Youth Field Days: Watershed Naturalists
END:VEVENT
END:VCALENDAR
