BEGIN:VCALENDAR
VERSION:2.0
PRODID:-//wenatcheeriverinstitute.org//NONSGML kigkonsult.se iCalcreator 2.
 30.10//
CALSCALE:GREGORIAN
METHOD:PUBLISH
UID:399036a1-f8c7-4a2b-8ea2-2f698da98f09
X-WR-CALDESC:The E. Lorene Young Community Garden is hosting a workshop ent
 itled Designing Container Gardens\, presented by WSU Chelan/Douglas Master
  Gardener MaryFran McClure. MaryFran will demonstrate how to plant and des
 ign container gardens for impact and color\, techniques for maintaining he
 althy plantings\, and talk about which container plants can be wintered ov
 er for future years.\n\nThe workshop begins at 11am and will be held in th
 e Community Garden located at the foot of 12th and Commercial Streets\, in
  Leavenworth\, and be followed by an optional tour of the Garden\, which w
 ill complete the one hour program. The Designing Container Gardens worksho
 p is free and open to the public.\n\nFor more information please contact C
 laudia Cockerham at (509)664-4913. We hope you will join us!
X-WR-RELCALID:572957ac0c32b1fb83a83d1f5dd66994
X-WR-TIMEZONE:America/Los_Angeles
BEGIN:VTIMEZONE
TZID:America/Los_Angeles
BEGIN:STANDARD
TZNAME:PST
DTSTART:20181104T020000
TZOFFSETFROM:-0700
TZOFFSETTO:-0800
RDATE:20191103T020000
RDATE:20201101T020000
END:STANDARD
BEGIN:DAYLIGHT
TZNAME:PDT
DTSTART:20190310T020000
TZOFFSETFROM:-0800
TZOFFSETTO:-0700
RDATE:20200308T020000
END:DAYLIGHT
END:VTIMEZONE
BEGIN:VEVENT
UID:a2929f7b-0239-4d4d-adbe-fb7490d82c03
DTSTAMP:20260426T002847Z
DESCRIPTION:The E. Lorene Young Community Garden is hosting a workshop enti
 tled Designing Container Gardens\, presented by WSU Chelan/Douglas Master 
 Gardener MaryFran McClure. MaryFran will demonstrate how to plant and desi
 gn container gardens for impact and color\, techniques for maintaining hea
 lthy plantings\, and talk about which container plants can be wintered ove
 r for future years.\n\nThe workshop begins at 11am and will be held in the
  Community Garden located at the foot of 12th and Commercial Streets\, in 
 Leavenworth\, and be followed by an optional tour of the Garden\, which wi
 ll complete the one hour program. The Designing Container Gardens workshop
  is free and open to the public.\n\nFor more information please contact Cl
 audia Cockerham at (509)664-4913. We hope you will join us!
DTSTART;TZID=America/Los_Angeles:20190612T110000
DTEND;TZID=America/Los_Angeles:20190612T120000
LOCATION:12th and Commercial in Leavenworth\, WA
SUMMARY:Designing Container Gardens Workshop
END:VEVENT
END:VCALENDAR
