BEGIN:VCALENDAR
VERSION:2.0
PRODID:-//wenatcheeriverinstitute.org//NONSGML kigkonsult.se iCalcreator 2.
 30.10//
CALSCALE:GREGORIAN
METHOD:PUBLISH
UID:5371ff6e-cf82-4082-8962-9f9e1660f7b9
X-WR-CALDESC:Join us in the Red Barn for The Salmon Way\, an Alaskan state 
 of mind\, by Amy Gulickn. Doors open at 6:30pm for community social and no
 -host refreshments\, presentation begins at 7pm. \n\nAlaskans have deeply 
 personal relationships with their salmon. These remarkable fish provide a 
 fundamental source of food\, livelihood\, and identity\, connecting genera
 tions and communities throughout the state. Yet while salmon are integral 
 to the lives of many Alaskans\, the habitat they need to thrive is increas
 ingly at risk as communities and decision makers evaluate large-scale deve
 lopment proposals. The Salmon Way celebrates and explores the relationship
 s between people and salmon in Alaska. Through story and images\, author A
 my Gulick shows us that people from wildly different backgrounds all value
  a salmon way of life.\n\nIn researching her new book\, Amy spent time wit
 h individuals whose lives are inextricably linked with salmon. Commercial 
 fishermen take her on as crew\, Alaska Native families teach her the art o
 f preserving fish and culture\, and sport fishing guides show her where to
  cast her line as well as her mind. Each experience expands our understand
 ing of the “salmon way” in Alaska.\n\nLearn more at www.thesalmonway.org
X-WR-RELCALID:d25c64e1e35ad1b0338c981d906c209c
X-WR-TIMEZONE:America/Los_Angeles
BEGIN:VTIMEZONE
TZID:America/Los_Angeles
BEGIN:STANDARD
TZNAME:PST
DTSTART:20181104T020000
TZOFFSETFROM:-0700
TZOFFSETTO:-0800
RDATE:20191103T020000
RDATE:20201101T020000
END:STANDARD
BEGIN:DAYLIGHT
TZNAME:PDT
DTSTART:20190310T020000
TZOFFSETFROM:-0800
TZOFFSETTO:-0700
RDATE:20200308T020000
END:DAYLIGHT
END:VTIMEZONE
BEGIN:VEVENT
UID:9f9a5a37-1515-460d-a978-8e6890adf76a
DTSTAMP:20260426T010510Z
DESCRIPTION:Join us in the Red Barn for The Salmon Way\, an Alaskan state o
 f mind\, by Amy Gulickn. Doors open at 6:30pm for community social and no-
 host refreshments\, presentation begins at 7pm. \n\nAlaskans have deeply p
 ersonal relationships with their salmon. These remarkable fish provide a f
 undamental source of food\, livelihood\, and identity\, connecting generat
 ions and communities throughout the state. Yet while salmon are integral t
 o the lives of many Alaskans\, the habitat they need to thrive is increasi
 ngly at risk as communities and decision makers evaluate large-scale devel
 opment proposals. The Salmon Way celebrates and explores the relationships
  between people and salmon in Alaska. Through story and images\, author Am
 y Gulick shows us that people from wildly different backgrounds all value 
 a salmon way of life.\n\nIn researching her new book\, Amy spent time with
  individuals whose lives are inextricably linked with salmon. Commercial f
 ishermen take her on as crew\, Alaska Native families teach her the art of
  preserving fish and culture\, and sport fishing guides show her where to 
 cast her line as well as her mind. Each experience expands our understandi
 ng of the “salmon way” in Alaska.\n\nLearn more at www.thesalmonway.org
DTSTART;TZID=America/Los_Angeles:20190612T190000
DTEND;TZID=America/Los_Angeles:20190612T203000
LOCATION:Red Barn\, 347 Division Street\, Leavenworth
SUMMARY:The Salmon Way\, an Alaskan state of mind | Amy Gulick
END:VEVENT
END:VCALENDAR
