BEGIN:VCALENDAR
VERSION:2.0
PRODID:-//wenatcheeriverinstitute.org//NONSGML kigkonsult.se iCalcreator 2.
 30.10//
CALSCALE:GREGORIAN
METHOD:PUBLISH
UID:d702a01a-3c0e-4d20-9f72-4b87d4e4ea5f
X-WR-CALDESC:
X-WR-RELCALID:cb3adfd47134fa8feb41005e5731289f
X-WR-TIMEZONE:America/Los_Angeles
BEGIN:VTIMEZONE
TZID:America/Los_Angeles
BEGIN:STANDARD
TZNAME:PST
DTSTART:20181104T020000
TZOFFSETFROM:-0700
TZOFFSETTO:-0800
RDATE:20191103T020000
RDATE:20201101T020000
END:STANDARD
BEGIN:DAYLIGHT
TZNAME:PDT
DTSTART:20190310T020000
TZOFFSETFROM:-0800
TZOFFSETTO:-0700
RDATE:20200308T020000
END:DAYLIGHT
END:VTIMEZONE
BEGIN:VEVENT
UID:269092f4-b8dd-497e-a36c-5307ee3a28a9
DTSTAMP:20260426T002954Z
DESCRIPTION:
DTSTART;TZID=America/Los_Angeles:20190618T090000
DTEND;TZID=America/Los_Angeles:20190620T150000
LOCATION:
SUMMARY:Wenatchee School District Camp
END:VEVENT
END:VCALENDAR
