BEGIN:VCALENDAR
VERSION:2.0
PRODID:-//wenatcheeriverinstitute.org//NONSGML kigkonsult.se iCalcreator 2.
 30.10//
CALSCALE:GREGORIAN
METHOD:PUBLISH
UID:43cd89b0-ad8f-4441-9352-20dfa3075dca
X-WR-CALDESC:Join us in the Red Barn for New Old Way: Reflections on the he
 alth-habitat connection\, by Frank Forencich. Doors open at 6:30pm for com
 munity social and no-host refreshments\, presentation begins at 7pm. \n\nI
 n conversations about health\, most of our attention goes to diet\, exerci
 se and more recently\, stress. But the natural world is an essential part 
 of our physical\, mental and spiritual function. If we neglect this elemen
 t\, or worse\, destroy our natural surroundings\, we compromise our health
 \, our future and even our sanity. Author Frank Forencich will share resea
 rch and ideas that reveal the deep and essential unity of body and habitat
  and suggest some ways we can do better. \n\nFrank has worked at the inter
 section of health\, biology\, ecology and athletics for over 30 years. As 
 a speaker and movement teacher\, he brings a unique perspective to the hum
 an predicament and offers practical solutions for some of the most pressin
 g problems of our age. \n\nFrank has a Black belt rank in karate and aikid
 o\, is a member: Council of Directors of the True Health Initiative\, and 
 holds a BA from Stanford University: Human biology. Frank is the author of
  several books relating to health and the human predicament including:\nEx
 uberant Animal\, Beautiful Practice\, New Old Way and The Exuberant Animal
  Experience: Teacher’s Guide to Philosophy\, physicality and rapport.\n\n
 \n\n\n
X-WR-RELCALID:807acf11f672f4f51b1073a0ca4c1d7f
X-WR-TIMEZONE:America/Los_Angeles
BEGIN:VTIMEZONE
TZID:America/Los_Angeles
BEGIN:STANDARD
TZNAME:PST
DTSTART:20181104T020000
TZOFFSETFROM:-0700
TZOFFSETTO:-0800
RDATE:20191103T020000
RDATE:20201101T020000
END:STANDARD
BEGIN:DAYLIGHT
TZNAME:PDT
DTSTART:20190310T020000
TZOFFSETFROM:-0800
TZOFFSETTO:-0700
RDATE:20200308T020000
END:DAYLIGHT
END:VTIMEZONE
BEGIN:VEVENT
UID:08feeff7-bf05-47b2-b394-ba2f53521768
DTSTAMP:20260426T010438Z
DESCRIPTION:Join us in the Red Barn for New Old Way: Reflections on the hea
 lth-habitat connection\, by Frank Forencich. Doors open at 6:30pm for comm
 unity social and no-host refreshments\, presentation begins at 7pm. \n\nIn
  conversations about health\, most of our attention goes to diet\, exercis
 e and more recently\, stress. But the natural world is an essential part o
 f our physical\, mental and spiritual function. If we neglect this element
 \, or worse\, destroy our natural surroundings\, we compromise our health\
 , our future and even our sanity. Author Frank Forencich will share resear
 ch and ideas that reveal the deep and essential unity of body and habitat 
 and suggest some ways we can do better. \n\nFrank has worked at the inters
 ection of health\, biology\, ecology and athletics for over 30 years. As a
  speaker and movement teacher\, he brings a unique perspective to the huma
 n predicament and offers practical solutions for some of the most pressing
  problems of our age. \n\nFrank has a Black belt rank in karate and aikido
 \, is a member: Council of Directors of the True Health Initiative\, and h
 olds a BA from Stanford University: Human biology. Frank is the author of 
 several books relating to health and the human predicament including:\nExu
 berant Animal\, Beautiful Practice\, New Old Way and The Exuberant Animal 
 Experience: Teacher’s Guide to Philosophy\, physicality and rapport.\n\n\n
 \n\n
DTSTART;TZID=America/Los_Angeles:20190619T190000
DTEND;TZID=America/Los_Angeles:20190619T203000
LOCATION:WRI Red Barn | 347 Division Street\, Leavenworth
SUMMARY:New Old Way: Reflections on the health-habitat connection | Frank F
 orencich
END:VEVENT
END:VCALENDAR
