BEGIN:VCALENDAR
VERSION:2.0
PRODID:-//wenatcheeriverinstitute.org//NONSGML kigkonsult.se iCalcreator 2.
 30.10//
CALSCALE:GREGORIAN
METHOD:PUBLISH
UID:74f1888c-7cd3-4e49-83b8-f6710996ee52
X-WR-CALDESC:Have fun in the garden and kitchen in this camp all about food
 .\n\nHave fun with food! Get your hands dirty at local farms and community
  gardens\, make delicious snacks\, discover cool critters that help our fo
 od grow and play fun run-around games. Like food? Come and join us!\n\nAge
 : entering grades 1-3\n\nCost: $235
X-WR-RELCALID:539b4e52d5cedf3ab76068f11b3d1a19
X-WR-TIMEZONE:America/Los_Angeles
BEGIN:VTIMEZONE
TZID:America/Los_Angeles
BEGIN:STANDARD
TZNAME:PST
DTSTART:20181104T020000
TZOFFSETFROM:-0700
TZOFFSETTO:-0800
RDATE:20191103T020000
RDATE:20201101T020000
END:STANDARD
BEGIN:DAYLIGHT
TZNAME:PDT
DTSTART:20190310T020000
TZOFFSETFROM:-0800
TZOFFSETTO:-0700
RDATE:20200308T020000
END:DAYLIGHT
END:VTIMEZONE
BEGIN:VEVENT
UID:236e5bb4-6c3c-42ef-892c-1abf8a680445
DTSTAMP:20260421T222558Z
DESCRIPTION:Have fun in the garden and kitchen in this camp all about food.
 \n\nHave fun with food! Get your hands dirty at local farms and community 
 gardens\, make delicious snacks\, discover cool critters that help our foo
 d grow and play fun run-around games. Like food? Come and join us!\n\nAge:
  entering grades 1-3\n\nCost: $235
DTSTART;TZID=America/Los_Angeles:20190624T100000
DTEND;TZID=America/Los_Angeles:20190628T150000
LOCATION:347 Division St\, Leavenworth\, WA\, 98826
SUMMARY:Soil to Snack Camp - (entering grades 1-3)
END:VEVENT
END:VCALENDAR
