BEGIN:VCALENDAR
VERSION:2.0
PRODID:-//wenatcheeriverinstitute.org//NONSGML kigkonsult.se iCalcreator 2.
 30.10//
CALSCALE:GREGORIAN
METHOD:PUBLISH
UID:1d6047b1-b38a-480e-8ca6-75f79a8c11d3
X-WR-CALDESC:WRI and the Cascade Garden Club will be hosting a Community Ce
 lebration and open house posing the question: What do you get when you cro
 ss passionate gardeners\, skilled environmental educators\, enthusiastic v
 olunteers and minds eager to learn\, all in a beautiful outdoor setting ab
 ounding with nature?\n\nFind out firsthand on the 29th! Activities  includ
 e garden viewing\, sauntering about the lovely Barn Beach Reserve\, a scav
 enger hunt\, and activities for the kids too -ladder ball\, chalk drawing\
 , hula hoops and more! Enjoy beer\, lemonade\, appetizers\, sweet treats a
 nd socializing with new and old friends. Learn about the history of Barn B
 each Reserve\, the E. Lorene Young Haus and River Haus\, and the Red Barn'
 s green\, LEED certification. All ages are welcome. Come and be a part of 
 the food\, fun and community! And\, it's FREE!\n\n
X-WR-RELCALID:92339eede20fb4be127e764522d9cfee
X-WR-TIMEZONE:America/Los_Angeles
BEGIN:VTIMEZONE
TZID:America/Los_Angeles
BEGIN:STANDARD
TZNAME:PST
DTSTART:20181104T020000
TZOFFSETFROM:-0700
TZOFFSETTO:-0800
RDATE:20191103T020000
RDATE:20201101T020000
END:STANDARD
BEGIN:DAYLIGHT
TZNAME:PDT
DTSTART:20190310T020000
TZOFFSETFROM:-0800
TZOFFSETTO:-0700
RDATE:20200308T020000
END:DAYLIGHT
END:VTIMEZONE
BEGIN:VEVENT
UID:b2467630-f0a5-4d25-a829-acd0f61071aa
DTSTAMP:20260426T010510Z
DESCRIPTION:WRI and the Cascade Garden Club will be hosting a Community Cel
 ebration and open house posing the question: What do you get when you cros
 s passionate gardeners\, skilled environmental educators\, enthusiastic vo
 lunteers and minds eager to learn\, all in a beautiful outdoor setting abo
 unding with nature?\n\nFind out firsthand on the 29th! Activities  include
  garden viewing\, sauntering about the lovely Barn Beach Reserve\, a scave
 nger hunt\, and activities for the kids too -ladder ball\, chalk drawing\,
  hula hoops and more! Enjoy beer\, lemonade\, appetizers\, sweet treats an
 d socializing with new and old friends. Learn about the history of Barn Be
 ach Reserve\, the E. Lorene Young Haus and River Haus\, and the Red Barn's
  green\, LEED certification. All ages are welcome. Come and be a part of t
 he food\, fun and community! And\, it's FREE!\n\n
DTSTART;TZID=America/Los_Angeles:20190629T160000
DTEND;TZID=America/Los_Angeles:20190629T173000
LOCATION:Wenatchee River Inst. 347 Division St. in Leavenworth
SUMMARY:Community Celebration with WRI and Cascade Garden Club
END:VEVENT
END:VCALENDAR
