BEGIN:VCALENDAR
VERSION:2.0
PRODID:-//wenatcheeriverinstitute.org//NONSGML kigkonsult.se iCalcreator 2.
 30.10//
CALSCALE:GREGORIAN
METHOD:PUBLISH
UID:b603dc6c-8f35-40a6-84b4-d91cb84d8382
X-WR-CALDESC:Are you looking for ways to reduce your plastic and carbon foo
 tprint? This is one step toward that goal! Join Leavenworth's\, The Bubble
 ry: A Soap Company\, for a class on making your own shampoo and conditione
 r bars. Shawna Lassen\, owner of The Bubblery\, will teach you how to take
  the step away from commercial shampoos and conditioners which\, are often
  made with harsh ingredients and in plastic containers that aren’t easily 
 recycled. \n\nWe will be formulating a pre-made base that is palm free\, s
 ulfate free and vegan for your own hair type\, and learning how to blend e
 ssential oils and herbs that benefit your hair. We will have several optio
 ns from which to choose and each participant will leave with a shampoo and
  conditioner bar. No lye will be used in this class so all are welcome to 
 come! \n\nCost is $20 with a limit of 10 participants.\nNo need to bring a
 nything! Please wear clothing that you don't mind getting a little oily or
  soapy.
X-WR-RELCALID:bf94f029ff909d02f7b2b8e684139e67
X-WR-TIMEZONE:America/Los_Angeles
BEGIN:VTIMEZONE
TZID:America/Los_Angeles
BEGIN:STANDARD
TZNAME:PST
DTSTART:20181104T020000
TZOFFSETFROM:-0700
TZOFFSETTO:-0800
RDATE:20191103T020000
RDATE:20201101T020000
END:STANDARD
BEGIN:DAYLIGHT
TZNAME:PDT
DTSTART:20190310T020000
TZOFFSETFROM:-0800
TZOFFSETTO:-0700
RDATE:20200308T020000
END:DAYLIGHT
END:VTIMEZONE
BEGIN:VEVENT
UID:8dce5532-6557-45ce-84a2-449b2e984157
DTSTAMP:20260425T225758Z
DESCRIPTION:Are you looking for ways to reduce your plastic and carbon foot
 print? This is one step toward that goal! Join Leavenworth's\, The Bubbler
 y: A Soap Company\, for a class on making your own shampoo and conditioner
  bars. Shawna Lassen\, owner of The Bubblery\, will teach you how to take 
 the step away from commercial shampoos and conditioners which\, are often 
 made with harsh ingredients and in plastic containers that aren’t easily r
 ecycled. \n\nWe will be formulating a pre-made base that is palm free\, su
 lfate free and vegan for your own hair type\, and learning how to blend es
 sential oils and herbs that benefit your hair. We will have several option
 s from which to choose and each participant will leave with a shampoo and 
 conditioner bar. No lye will be used in this class so all are welcome to c
 ome! \n\nCost is $20 with a limit of 10 participants.\nNo need to bring an
 ything! Please wear clothing that you don't mind getting a little oily or 
 soapy.
DTSTART;TZID=America/Los_Angeles:20190708T180000
DTEND;TZID=America/Los_Angeles:20190708T193000
LOCATION:Wenatchee River Institute Red Barn
SUMMARY:DIY Shampoo and Conditioner Bar Class
END:VEVENT
END:VCALENDAR
