BEGIN:VCALENDAR
VERSION:2.0
PRODID:-//wenatcheeriverinstitute.org//NONSGML kigkonsult.se iCalcreator 2.
 30.10//
CALSCALE:GREGORIAN
METHOD:PUBLISH
UID:e51b03fb-b6b9-4007-8d1b-ebbfd13cdb0e
X-WR-CALDESC:Stay cool on the river with paddle boarding\, tubing and river
  exploration.\n\nExplore Leavenworth’s incredible rivers like never before
 ! Paddle-boarding\, tubing and river exploration will leave you with the s
 kills and knowledge to continue adventuring even when camp is over. Come h
 ave fun in the sun!\n\nAge: entering grades 4-6\n\nCost: $290
X-WR-RELCALID:5d318db6342e85bc076fbe8c9b1f803b
X-WR-TIMEZONE:America/Los_Angeles
BEGIN:VTIMEZONE
TZID:America/Los_Angeles
BEGIN:STANDARD
TZNAME:PST
DTSTART:20181104T020000
TZOFFSETFROM:-0700
TZOFFSETTO:-0800
RDATE:20191103T020000
RDATE:20201101T020000
END:STANDARD
BEGIN:DAYLIGHT
TZNAME:PDT
DTSTART:20190310T020000
TZOFFSETFROM:-0800
TZOFFSETTO:-0700
RDATE:20200308T020000
END:DAYLIGHT
END:VTIMEZONE
BEGIN:VEVENT
UID:f7a42b4b-105a-4560-8afa-721dcd9b5b5a
DTSTAMP:20260425T225827Z
DESCRIPTION:Stay cool on the river with paddle boarding\, tubing and river 
 exploration.\n\nExplore Leavenworth’s incredible rivers like never before!
  Paddle-boarding\, tubing and river exploration will leave you with the sk
 ills and knowledge to continue adventuring even when camp is over. Come ha
 ve fun in the sun!\n\nAge: entering grades 4-6\n\nCost: $290
DTSTART;TZID=America/Los_Angeles:20190708T100000
DTEND;TZID=America/Los_Angeles:20190712T150000
LOCATION:347 Division St\, Leavenworth\, WA\, 98826
SUMMARY:River Wild Camp (session 2) - (entering grades 4-6)
END:VEVENT
END:VCALENDAR
