BEGIN:VCALENDAR
VERSION:2.0
PRODID:-//wenatcheeriverinstitute.org//NONSGML kigkonsult.se iCalcreator 2.
 30.10//
CALSCALE:GREGORIAN
METHOD:PUBLISH
UID:1e286128-bf5e-4da1-9846-43af109f1ad6
X-WR-CALDESC:Take yourself to new heights while rock climbing in the great 
 outdoors.\n\nNow with 3 DAYS OF CLIMBING!! Explore the amazing world of ro
 cks and push yourself to new heights in this rock-climbing camp! Spend one
  day developing skills at Riverfront Rock Gym and two days rock climbing o
 utside with local professional group\, Northwest Mountain School\, all whi
 le getting to know the cool rocks around Leavenworth. A strong emphasis is
  placed on working cooperatively as a team while involved in outdoor recre
 ation.\n\nAge: entering grades 4-6\n\nCost: $315
X-WR-RELCALID:5979496db96e316125a4bf579c264bd2
X-WR-TIMEZONE:America/Los_Angeles
BEGIN:VTIMEZONE
TZID:America/Los_Angeles
BEGIN:STANDARD
TZNAME:PST
DTSTART:20181104T020000
TZOFFSETFROM:-0700
TZOFFSETTO:-0800
RDATE:20191103T020000
RDATE:20201101T020000
END:STANDARD
BEGIN:DAYLIGHT
TZNAME:PDT
DTSTART:20190310T020000
TZOFFSETFROM:-0800
TZOFFSETTO:-0700
RDATE:20200308T020000
END:DAYLIGHT
END:VTIMEZONE
BEGIN:VEVENT
UID:8c6533a2-4f22-412c-9aad-ff8cef7570d1
DTSTAMP:20260425T225828Z
DESCRIPTION:Take yourself to new heights while rock climbing in the great o
 utdoors.\n\nNow with 3 DAYS OF CLIMBING!! Explore the amazing world of roc
 ks and push yourself to new heights in this rock-climbing camp! Spend one 
 day developing skills at Riverfront Rock Gym and two days rock climbing ou
 tside with local professional group\, Northwest Mountain School\, all whil
 e getting to know the cool rocks around Leavenworth. A strong emphasis is 
 placed on working cooperatively as a team while involved in outdoor recrea
 tion.\n\nAge: entering grades 4-6\n\nCost: $315
DTSTART;TZID=America/Los_Angeles:20190715T100000
DTEND;TZID=America/Los_Angeles:20190719T150000
LOCATION:347 Division St\, Leavenworth\, WA\, 98826
SUMMARY:Rock On Camp - (entering grades 4-6)
END:VEVENT
END:VCALENDAR
