BEGIN:VCALENDAR
VERSION:2.0
PRODID:-//wenatcheeriverinstitute.org//NONSGML kigkonsult.se iCalcreator 2.
 30.10//
CALSCALE:GREGORIAN
METHOD:PUBLISH
UID:7a8570c4-9079-49a2-8128-3dbdb6330e66
X-WR-CALDESC:Explore the forest like never before! Make new discoveries whi
 le playing tons of games. Embark on adventures with friends along wooded t
 rails and down by the river. There's no better way to have fun in the sun!
 \n\nAge: entering grades 1-3\n\nCost: $235
X-WR-RELCALID:a44f4c5dd8b757aa90e4accb3858699b
X-WR-TIMEZONE:America/Los_Angeles
BEGIN:VTIMEZONE
TZID:America/Los_Angeles
BEGIN:STANDARD
TZNAME:PST
DTSTART:20181104T020000
TZOFFSETFROM:-0700
TZOFFSETTO:-0800
RDATE:20191103T020000
RDATE:20201101T020000
END:STANDARD
BEGIN:DAYLIGHT
TZNAME:PDT
DTSTART:20190310T020000
TZOFFSETFROM:-0800
TZOFFSETTO:-0700
RDATE:20200308T020000
END:DAYLIGHT
END:VTIMEZONE
BEGIN:VEVENT
UID:110c12de-078b-4794-a6c2-67f0cfd2668f
DTSTAMP:20260425T230020Z
DESCRIPTION:Explore the forest like never before! Make new discoveries whil
 e playing tons of games. Embark on adventures with friends along wooded tr
 ails and down by the river. There's no better way to have fun in the sun!
 \n\nAge: entering grades 1-3\n\nCost: $235
DTSTART;TZID=America/Los_Angeles:20190722T100000
DTEND;TZID=America/Los_Angeles:20190726T150000
LOCATION:347 Division St\, Leavenworth\, WA\, 98826
SUMMARY:Forest Friends Camp - (entering grades 1-3)
END:VEVENT
END:VCALENDAR
