BEGIN:VCALENDAR
VERSION:2.0
PRODID:-//wenatcheeriverinstitute.org//NONSGML kigkonsult.se iCalcreator 2.
 30.10//
CALSCALE:GREGORIAN
METHOD:PUBLISH
UID:99ed5234-286d-4cb8-b25c-6bd345ce5537
X-WR-CALDESC:Challenge yourself with this camp focused on hands-on skills n
 eeded for outdoor survival.\n\nLeavenworth is surrounded by the wild outdo
 ors! Be prepared for the wilderness and learn important skills like archer
 y\, fire building\, compass orienteering and tool making. Your newfound kn
 owledge of the outdoors will come in handy as we explore our amazing fores
 ts and are confronted with challenges.\n\nAge: entering grades 4-6\n\nCost
 : $260
X-WR-RELCALID:e32959be9c0f2afc4c0ea83121d512e6
X-WR-TIMEZONE:America/Los_Angeles
BEGIN:VTIMEZONE
TZID:America/Los_Angeles
BEGIN:STANDARD
TZNAME:PST
DTSTART:20181104T020000
TZOFFSETFROM:-0700
TZOFFSETTO:-0800
RDATE:20191103T020000
RDATE:20201101T020000
END:STANDARD
BEGIN:DAYLIGHT
TZNAME:PDT
DTSTART:20190310T020000
TZOFFSETFROM:-0800
TZOFFSETTO:-0700
RDATE:20200308T020000
END:DAYLIGHT
END:VTIMEZONE
BEGIN:VEVENT
UID:a601274a-bcd1-4a14-8775-02582db3054f
DTSTAMP:20260425T211404Z
DESCRIPTION:Challenge yourself with this camp focused on hands-on skills ne
 eded for outdoor survival.\n\nLeavenworth is surrounded by the wild outdoo
 rs! Be prepared for the wilderness and learn important skills like archery
 \, fire building\, compass orienteering and tool making. Your newfound kno
 wledge of the outdoors will come in handy as we explore our amazing forest
 s and are confronted with challenges.\n\nAge: entering grades 4-6\n\nCost:
  $260
DTSTART;TZID=America/Los_Angeles:20190729T100000
DTEND;TZID=America/Los_Angeles:20190802T150000
LOCATION:347 Division St\, Leavenworth\, WA\, 98826
SUMMARY:Kids in the Wild Camp - (entering grades 4-6)
END:VEVENT
END:VCALENDAR
