BEGIN:VCALENDAR
VERSION:2.0
PRODID:-//wenatcheeriverinstitute.org//NONSGML kigkonsult.se iCalcreator 2.
 30.10//
CALSCALE:GREGORIAN
METHOD:PUBLISH
UID:67829f6a-acf8-49e8-b0b9-53fcd3e38c69
X-WR-CALDESC:Explore your creative side. Make art inspired by the natural w
 orld while learning art techniques from local artists. Campers with all ar
 tistic skill levels\, beginner to advanced\, are welcome. Be ready to take
  home some newly created masterpieces!\n\nAge: entering grades 4-6\n\nCost
 : $275
X-WR-RELCALID:616d6190a40be4af8b9a2cca3ede65c3
X-WR-TIMEZONE:America/Los_Angeles
BEGIN:VTIMEZONE
TZID:America/Los_Angeles
BEGIN:STANDARD
TZNAME:PST
DTSTART:20181104T020000
TZOFFSETFROM:-0700
TZOFFSETTO:-0800
RDATE:20191103T020000
RDATE:20201101T020000
END:STANDARD
BEGIN:DAYLIGHT
TZNAME:PDT
DTSTART:20190310T020000
TZOFFSETFROM:-0800
TZOFFSETTO:-0700
RDATE:20200308T020000
END:DAYLIGHT
END:VTIMEZONE
BEGIN:VEVENT
UID:d7d543a0-e272-47ac-aa6d-9295fad5da5e
DTSTAMP:20260425T211410Z
DESCRIPTION:Explore your creative side. Make art inspired by the natural wo
 rld while learning art techniques from local artists. Campers with all art
 istic skill levels\, beginner to advanced\, are welcome. Be ready to take 
 home some newly created masterpieces!\n\nAge: entering grades 4-6\n\nCost:
  $275
DTSTART;TZID=America/Los_Angeles:20190805T100000
DTEND;TZID=America/Los_Angeles:20190809T150000
LOCATION:347 Division St\, Leavenworth\, WA\, 98826
SUMMARY:Amazing Artists Camp - (entering grades 4-6)
END:VEVENT
END:VCALENDAR
