BEGIN:VCALENDAR
VERSION:2.0
PRODID:-//wenatcheeriverinstitute.org//NONSGML kigkonsult.se iCalcreator 2.
 30.10//
CALSCALE:GREGORIAN
METHOD:PUBLISH
UID:0cef5155-f151-4eed-b340-e637a3e4808d
X-WR-CALDESC:Get to know all the incredible critters that live in and aroun
 d Leavenworth.\n\nThere are so many critters waiting to be discovered at B
 arn Beach Reserve and beyond! Spend a week exploring these creatures\, whe
 re they live and how they survive in and around the river and along forest
 ed trails. Camp includes bug collecting\, holding live animals\, visiting 
 local farm animals\, helping an expert dissect a salmon and tons of animal
  games.\n\nAge: entering grades 1-3\n\nCost: $235
X-WR-RELCALID:171d0aa8d866f995bb2a36c42d7f5c0e
X-WR-TIMEZONE:America/Los_Angeles
BEGIN:VTIMEZONE
TZID:America/Los_Angeles
BEGIN:STANDARD
TZNAME:PST
DTSTART:20181104T020000
TZOFFSETFROM:-0700
TZOFFSETTO:-0800
RDATE:20191103T020000
RDATE:20201101T020000
END:STANDARD
BEGIN:DAYLIGHT
TZNAME:PDT
DTSTART:20190310T020000
TZOFFSETFROM:-0800
TZOFFSETTO:-0700
RDATE:20200308T020000
END:DAYLIGHT
END:VTIMEZONE
BEGIN:VEVENT
UID:6e1805fe-85fd-41c3-bb85-5fd7e9264f6c
DTSTAMP:20260425T212246Z
DESCRIPTION:Get to know all the incredible critters that live in and around
  Leavenworth.\n\nThere are so many critters waiting to be discovered at Ba
 rn Beach Reserve and beyond! Spend a week exploring these creatures\, wher
 e they live and how they survive in and around the river and along foreste
 d trails. Camp includes bug collecting\, holding live animals\, visiting l
 ocal farm animals\, helping an expert dissect a salmon and tons of animal 
 games.\n\nAge: entering grades 1-3\n\nCost: $235
DTSTART;TZID=America/Los_Angeles:20190805T100000
DTEND;TZID=America/Los_Angeles:20190809T150000
LOCATION:347 Division St\, Leavenworth\, WA\, 98826
SUMMARY:Crazy Critters Camp (session 2) - (entering grades 1-3)
END:VEVENT
END:VCALENDAR
