BEGIN:VCALENDAR
VERSION:2.0
PRODID:-//wenatcheeriverinstitute.org//NONSGML kigkonsult.se iCalcreator 2.
 30.10//
CALSCALE:GREGORIAN
METHOD:PUBLISH
UID:4c49c6d6-9feb-4d2d-b58f-c50ea4beb976
X-WR-CALDESC:Explore your creative side in the great outdoors\, and discove
 r that everyone can be an artist! Drawing\, painting\, dance\, theater\, c
 ostume making\, music. There's no better time and place than at WRI Creati
 vity Camp.\n\nAge: entering grades 1-3\n\nCost: $235
X-WR-RELCALID:9bbfa3f47d91647fbd03eb535048cf96
X-WR-TIMEZONE:America/Los_Angeles
BEGIN:VTIMEZONE
TZID:America/Los_Angeles
BEGIN:STANDARD
TZNAME:PST
DTSTART:20181104T020000
TZOFFSETFROM:-0700
TZOFFSETTO:-0800
RDATE:20191103T020000
RDATE:20201101T020000
END:STANDARD
BEGIN:DAYLIGHT
TZNAME:PDT
DTSTART:20190310T020000
TZOFFSETFROM:-0800
TZOFFSETTO:-0700
RDATE:20200308T020000
END:DAYLIGHT
END:VTIMEZONE
BEGIN:VEVENT
UID:e5243158-f763-4970-afaa-72e0455c1bca
DTSTAMP:20260421T120523Z
DESCRIPTION:Explore your creative side in the great outdoors\, and discover
  that everyone can be an artist! Drawing\, painting\, dance\, theater\, co
 stume making\, music. There's no better time and place than at WRI Creativ
 ity Camp.\n\nAge: entering grades 1-3\n\nCost: $235
DTSTART;TZID=America/Los_Angeles:20190812T100000
DTEND;TZID=America/Los_Angeles:20190816T150000
LOCATION:347 Division St\, Leavenworth\, WA\, 98826
SUMMARY:Creativity Camp - (entering grades 1-3)
END:VEVENT
END:VCALENDAR
