BEGIN:VCALENDAR
VERSION:2.0
PRODID:-//wenatcheeriverinstitute.org//NONSGML kigkonsult.se iCalcreator 2.
 30.10//
CALSCALE:GREGORIAN
METHOD:PUBLISH
UID:75637892-2b05-43c8-adff-7c3f93cd2cdb
X-WR-CALDESC:Wenatchee River Institute will be hosting the Leavenworth Comm
 unity Farmers Market's kids and families activity booth on June 20th\, Jul
 y 25th\, August 22nd and September 19th this market season. Visit our boot
 h and stay a spell to experience hands-on\, fun\, educational and inspirat
 ional natural science projects like: What's That Bird\, Nature Up Close th
 rough stereo microscopes\, and much more!
X-WR-RELCALID:27342487dd55b1fe5ccae5cb4e0f5f47
X-WR-TIMEZONE:America/Los_Angeles
BEGIN:VTIMEZONE
TZID:America/Los_Angeles
BEGIN:STANDARD
TZNAME:PST
DTSTART:20181104T020000
TZOFFSETFROM:-0700
TZOFFSETTO:-0800
RDATE:20191103T020000
RDATE:20201101T020000
END:STANDARD
BEGIN:DAYLIGHT
TZNAME:PDT
DTSTART:20190310T020000
TZOFFSETFROM:-0800
TZOFFSETTO:-0700
RDATE:20200308T020000
RDATE:20210314T020000
END:DAYLIGHT
END:VTIMEZONE
BEGIN:VEVENT
UID:dac85ae5-739f-4f1f-ac94-dbccd9cf37fa
DTSTAMP:20260425T192352Z
DESCRIPTION:Wenatchee River Institute will be hosting the Leavenworth Commu
 nity Farmers Market's kids and families activity booth on June 20th\, July
  25th\, August 22nd and September 19th this market season. Visit our booth
  and stay a spell to experience hands-on\, fun\, educational and inspirati
 onal natural science projects like: What's That Bird\, Nature Up Close thr
 ough stereo microscopes\, and much more!
DTSTART;TZID=America/Los_Angeles:20190919T160000
DTEND;TZID=America/Los_Angeles:20190919T200000
LOCATION:Lions Club Park | 696 US-2 Leavenworth
SUMMARY:WRI at Leavenworth Community Farmers Market
END:VEVENT
END:VCALENDAR
