BEGIN:VCALENDAR
VERSION:2.0
PRODID:-//wenatcheeriverinstitute.org//NONSGML kigkonsult.se iCalcreator 2.
 30.10//
CALSCALE:GREGORIAN
METHOD:PUBLISH
UID:1c10e821-1cef-44a9-a35f-3a1837421a16
X-WR-CALDESC:It's back\, Science on TAP! \nCome out to Wenatchee's Badger M
 ountain  Brewing  on Thursday\, September 26th from 6-7pm and hear Von Pop
 e\, Senior Wildlife Biologist for Chelan County PUD\, talk about mule deer
  winter habitat in the Wenatchee Foothills.\n\nLearn about mule deer popul
 ation monitoring in the Wenatchee Valley\, and find answers to questions l
 ike\, How many deer are in this area and Why are the Sage Hills and other 
 recreation areas closed during the winter? “Initial effort has gone a long
  way to protect mule deer wintering range and herds have benefitted by hav
 ing a piece of property not being used for recreational purposes during th
 e winter. Winter closures and monitoring are now in place\; 15 years ago\,
  that data just wasn’t around\,” explains Pope.\n\nAfter the presentation\
 , there will be a raffle of WRI and Badger Mountain Brewery goods! All pro
 ceeds help keep WRI programming continue and grow.
X-WR-RELCALID:4f0e58e041adf57ccdfc3c5d3bdc7666
X-WR-TIMEZONE:America/Los_Angeles
BEGIN:VTIMEZONE
TZID:America/Los_Angeles
BEGIN:STANDARD
TZNAME:PST
DTSTART:20181104T020000
TZOFFSETFROM:-0700
TZOFFSETTO:-0800
RDATE:20191103T020000
RDATE:20201101T020000
END:STANDARD
BEGIN:DAYLIGHT
TZNAME:PDT
DTSTART:20190310T020000
TZOFFSETFROM:-0800
TZOFFSETTO:-0700
RDATE:20200308T020000
RDATE:20210314T020000
END:DAYLIGHT
END:VTIMEZONE
BEGIN:VEVENT
UID:35430e7d-a252-49a9-9791-23f0c622c271
DTSTAMP:20260425T191659Z
DESCRIPTION:It's back\, Science on TAP! \nCome out to Wenatchee's Badger Mo
 untain  Brewing  on Thursday\, September 26th from 6-7pm and hear Von Pope
 \, Senior Wildlife Biologist for Chelan County PUD\, talk about mule deer 
 winter habitat in the Wenatchee Foothills.\n\nLearn about mule deer popula
 tion monitoring in the Wenatchee Valley\, and find answers to questions li
 ke\, How many deer are in this area and Why are the Sage Hills and other r
 ecreation areas closed during the winter? “Initial effort has gone a long 
 way to protect mule deer wintering range and herds have benefitted by havi
 ng a piece of property not being used for recreational purposes during the
  winter. Winter closures and monitoring are now in place\; 15 years ago\, 
 that data just wasn’t around\,” explains Pope.\n\nAfter the presentation\,
  there will be a raffle of WRI and Badger Mountain Brewery goods! All proc
 eeds help keep WRI programming continue and grow.
DTSTART;TZID=America/Los_Angeles:20190926T180000
DTEND;TZID=America/Los_Angeles:20190926T190000
LOCATION:Badger Mountain Brewing
SUMMARY:Science on TAP! Mule Deer in Wenatchee Valley
END:VEVENT
END:VCALENDAR
