BEGIN:VCALENDAR
VERSION:2.0
PRODID:-//wenatcheeriverinstitute.org//NONSGML kigkonsult.se iCalcreator 2.
 30.10//
CALSCALE:GREGORIAN
METHOD:PUBLISH
UID:9b0cb507-94c8-4953-9a50-2e54ffa0b66b
X-WR-CALDESC:350 Wenatchee shows the film 'Ice on Fire' in the WRI Red Barn
  with discussion following. Ice on Fire was Produced by Oscar-winner Leona
 rdo DiCaprio\, George DiCaprio and Mathew Schmid and directed by Leila Con
 ners. Ice on Fire is an eye-opening documentary that focuses on many never
 -before-seen solutions designed to slow down our escalating environmental 
 crisis.\n
X-WR-RELCALID:ac1a30fa91151e5577e542e4b6532ae3
X-WR-TIMEZONE:America/Los_Angeles
BEGIN:VTIMEZONE
TZID:America/Los_Angeles
BEGIN:STANDARD
TZNAME:PST
DTSTART:20181104T020000
TZOFFSETFROM:-0700
TZOFFSETTO:-0800
RDATE:20191103T020000
RDATE:20201101T020000
END:STANDARD
BEGIN:DAYLIGHT
TZNAME:PDT
DTSTART:20190310T020000
TZOFFSETFROM:-0800
TZOFFSETTO:-0700
RDATE:20200308T020000
RDATE:20210314T020000
END:DAYLIGHT
END:VTIMEZONE
BEGIN:VEVENT
UID:25e0756b-c3b2-4390-80af-39934d52da2a
DTSTAMP:20260425T191847Z
DESCRIPTION:350 Wenatchee shows the film 'Ice on Fire' in the WRI Red Barn 
 with discussion following. Ice on Fire was Produced by Oscar-winner Leonar
 do DiCaprio\, George DiCaprio and Mathew Schmid and directed by Leila Conn
 ers. Ice on Fire is an eye-opening documentary that focuses on many never-
 before-seen solutions designed to slow down our escalating environmental c
 risis.\n
DTSTART;TZID=America/Los_Angeles:20190927T163000
DTEND;TZID=America/Los_Angeles:20190927T183000
LOCATION:
SUMMARY:Film\, 'Ice on Fire' presented by 350 Wenatchee
END:VEVENT
END:VCALENDAR
