BEGIN:VCALENDAR
VERSION:2.0
PRODID:-//wenatcheeriverinstitute.org//NONSGML kigkonsult.se iCalcreator 2.
 30.10//
CALSCALE:GREGORIAN
METHOD:PUBLISH
UID:b3d1c3c2-8c4c-482d-b133-7d938852a007
X-WR-CALDESC:Each fall thousands of hawks\, eagles\, and falcons fly along 
 a high ridge above Lake Chelan on their way to winter territories. Join We
 natchee River Institute for a field trip to the Chelan Ridge Hawkwatch Int
 ernational (HWI) observation point to witness this amazing spectacle. Chel
 an Ridge HWI is located in the USFS Okanogan-Wenatchee National Forest.\n
 \nLearn about raptor biology and hone your identification skills by assist
 ing researchers as they count passing hawks!\n\nDuring the excursion\, you
  will hear from local biologists about the why of these migrations\, as we
 ll as the how it all relates to habitat and land management. While visitin
 g the field station\, biologists will be working the trapping blind provid
 ing for a rare\, close-up opportunity to witness a live bird capture\, ban
 ding\, and release. Participants will also gather data in an effort to gle
 an information about the health of North America’s raptor populations.\n\n
 After exploratory surveys in 1997 at Chelan Ridge HawkWatch\, in partnersh
 ip with the USFS Okanogan-Wenatchee National Forest in 1998 HWI began annu
 al counts at the Chelan Ridge site. These counts helped to monitor the rap
 tors and learn more about their migration through the East Cascades of Was
 hington State within the Pacific Coast Flyway. HWI has been banding raptor
 s at Chelan Ridge since 2001\, while also using the site to conduct satell
 ite-tracking research.\n\nEach season\, counts typically range between 2\,
 000-3\,000 migrating birds of up to 17 species. The most commonly seen spe
 cies are the Sharp-shinned Hawk\, Red-tailed Hawk\, Cooper's Hawk\, Northe
 rn Harrier\, Golden Eagle\, and American Kestrel. \n\nField Trip Cost: WRI
 -Members $45\, Non-Member $60\, with WRI Otter Van transportation included
 . Participants will leave from the Wenatchee River Institute campus in Lea
 venworth at 8am\, or from the Penny Road Park & Ride in Wenatchee at 8:45a
 m. Please pack a lunch\, snacks and water\, and be prepared to hike for 30
  minutes at approximately 6000 feet elevation. Be prepared for possible wi
 ndy and cold weather.\n\nCapped at 13 participants.\n\nPhoto courtesy Chel
 an Ridge
X-WR-RELCALID:e3ca5bbe85dc3a504335eec2f55c41c9
X-WR-TIMEZONE:America/Los_Angeles
BEGIN:VTIMEZONE
TZID:America/Los_Angeles
BEGIN:STANDARD
TZNAME:PST
DTSTART:20181104T020000
TZOFFSETFROM:-0700
TZOFFSETTO:-0800
RDATE:20191103T020000
RDATE:20201101T020000
END:STANDARD
BEGIN:DAYLIGHT
TZNAME:PDT
DTSTART:20190310T020000
TZOFFSETFROM:-0800
TZOFFSETTO:-0700
RDATE:20200308T020000
RDATE:20210314T020000
END:DAYLIGHT
END:VTIMEZONE
BEGIN:VEVENT
UID:fb76a6bc-e23a-4aa5-b0ff-bc95f3b7f95f
DTSTAMP:20260425T174209Z
DESCRIPTION:Each fall thousands of hawks\, eagles\, and falcons fly along a
  high ridge above Lake Chelan on their way to winter territories. Join Wen
 atchee River Institute for a field trip to the Chelan Ridge Hawkwatch Inte
 rnational (HWI) observation point to witness this amazing spectacle. Chela
 n Ridge HWI is located in the USFS Okanogan-Wenatchee National Forest.\n\n
 Learn about raptor biology and hone your identification skills by assistin
 g researchers as they count passing hawks!\n\nDuring the excursion\, you w
 ill hear from local biologists about the why of these migrations\, as well
  as the how it all relates to habitat and land management. While visiting 
 the field station\, biologists will be working the trapping blind providin
 g for a rare\, close-up opportunity to witness a live bird capture\, bandi
 ng\, and release. Participants will also gather data in an effort to glean
  information about the health of North America’s raptor populations.\n\nAf
 ter exploratory surveys in 1997 at Chelan Ridge HawkWatch\, in partnership
  with the USFS Okanogan-Wenatchee National Forest in 1998 HWI began annual
  counts at the Chelan Ridge site. These counts helped to monitor the rapto
 rs and learn more about their migration through the East Cascades of Washi
 ngton State within the Pacific Coast Flyway. HWI has been banding raptors 
 at Chelan Ridge since 2001\, while also using the site to conduct satellit
 e-tracking research.\n\nEach season\, counts typically range between 2\,00
 0-3\,000 migrating birds of up to 17 species. The most commonly seen speci
 es are the Sharp-shinned Hawk\, Red-tailed Hawk\, Cooper's Hawk\, Northern
  Harrier\, Golden Eagle\, and American Kestrel. \n\nField Trip Cost: WRI-M
 embers $45\, Non-Member $60\, with WRI Otter Van transportation included. 
 Participants will leave from the Wenatchee River Institute campus in Leave
 nworth at 8am\, or from the Penny Road Park & Ride in Wenatchee at 8:45am.
  Please pack a lunch\, snacks and water\, and be prepared to hike for 30 m
 inutes at approximately 6000 feet elevation. Be prepared for possible wind
 y and cold weather.\n\nCapped at 13 participants.\n\nPhoto courtesy Chelan
  Ridge
DTSTART;TZID=America/Los_Angeles:20191003T080000
DTEND;TZID=America/Los_Angeles:20191003T160000
LOCATION:Wenatchee River Institute
SUMMARY:FULL Chelan Ridge Hawkwatch Field Trip
END:VEVENT
END:VCALENDAR
