BEGIN:VCALENDAR
VERSION:2.0
PRODID:-//wenatcheeriverinstitute.org//NONSGML kigkonsult.se iCalcreator 2.
 30.10//
CALSCALE:GREGORIAN
METHOD:PUBLISH
UID:7dcc4bab-1901-4b66-8f13-28c92e5453de
X-WR-CALDESC:Tuesday\, October 15th 6:00pm-7:00pm at Wenatchee Valley Brewi
 ng Co. Brewery\n\nWenatchee Valley local and ornithologist Suzanne Tomassi
 \, Research Scientist with the University of Sheffield in the UK\, will ch
 at about her long-term project in Borneo. Field work is located in Danum V
 alley\, the oldest rainforest on Earth and a biodiversity hotspot. This lo
 ng-term study uses birds to measure wildlife responses to both natural and
  human-driven phenomena. Come learn about this ancient forest and see phot
 os of the spectacular wildlife that inhabit it.\n\nAfter the presentation\
 , there will be a raffle of WRI and Wenatchee Valley Brewery goods! All pr
 oceeds help keep WRI programming continue and grow.
X-WR-RELCALID:dbf4e44143c120e7e7a614ff1aeaa4cb
X-WR-TIMEZONE:America/Los_Angeles
BEGIN:VTIMEZONE
TZID:America/Los_Angeles
BEGIN:STANDARD
TZNAME:PST
DTSTART:20181104T020000
TZOFFSETFROM:-0700
TZOFFSETTO:-0800
RDATE:20191103T020000
RDATE:20201101T020000
END:STANDARD
BEGIN:DAYLIGHT
TZNAME:PDT
DTSTART:20190310T020000
TZOFFSETFROM:-0800
TZOFFSETTO:-0700
RDATE:20200308T020000
RDATE:20210314T020000
END:DAYLIGHT
END:VTIMEZONE
BEGIN:VEVENT
UID:e5e6c96d-47a0-4728-9cfc-3b4e1d71b566
DTSTAMP:20260421T105140Z
DESCRIPTION:Tuesday\, October 15th 6:00pm-7:00pm at Wenatchee Valley Brewin
 g Co. Brewery\n\nWenatchee Valley local and ornithologist Suzanne Tomassi\
 , Research Scientist with the University of Sheffield in the UK\, will cha
 t about her long-term project in Borneo. Field work is located in Danum Va
 lley\, the oldest rainforest on Earth and a biodiversity hotspot. This lon
 g-term study uses birds to measure wildlife responses to both natural and 
 human-driven phenomena. Come learn about this ancient forest and see photo
 s of the spectacular wildlife that inhabit it.\n\nAfter the presentation\,
  there will be a raffle of WRI and Wenatchee Valley Brewery goods! All pro
 ceeds help keep WRI programming continue and grow.
DTSTART;TZID=America/Los_Angeles:20191015T180000
DTEND;TZID=America/Los_Angeles:20191015T190000
LOCATION:Wenatchee Valley Brewing Company
SUMMARY:Science on Tap! Birds of Borneo
END:VEVENT
END:VCALENDAR
