BEGIN:VCALENDAR
VERSION:2.0
PRODID:-//wenatcheeriverinstitute.org//NONSGML kigkonsult.se iCalcreator 2.
 30.10//
CALSCALE:GREGORIAN
METHOD:PUBLISH
UID:0ca7216d-d6df-4415-87a9-9124a700c8dd
X-WR-CALDESC:Doors open at 6:30pm for community social and no-host refreshm
 ents\, presentation begins at 7:00pm.\n\nJoin attorney Erin McCool as she 
 offers an introduction to water rights law in Washington State. McCool wil
 l provide a history of how water code developed and how the court has inte
 rpreted the code over passing years. The discussion will also include curr
 ent issues in the private market\, as well as local issues that arise betw
 een competing interests for a limited resource.\n\nMcCool is a Member at O
 gden Murphy Wallace PLLC and her practice emphasizes on general litigation
 \, employment & labor law\, land use and water law. She graduated from the
  Marshall-Wythe School of Law at the College of William & Mary in Williams
 burg\, Virginia. Erin received her undergraduate degree from the Universit
 y of Virginia in Environmental Science.\n\nA Wenatchee resident\, she is a
 n active member of the community serving as the Legislative and Diversity 
 Director for the Apple Valley Human Resources Association\, and a current 
 board member of the Chelan Douglas Volunteer Attorney Services.\n
X-WR-RELCALID:e6a5c0fae4c90544d4849c4397b65193
X-WR-TIMEZONE:America/Los_Angeles
BEGIN:VTIMEZONE
TZID:America/Los_Angeles
BEGIN:STANDARD
TZNAME:PST
DTSTART:20181104T020000
TZOFFSETFROM:-0700
TZOFFSETTO:-0800
RDATE:20191103T020000
RDATE:20201101T020000
END:STANDARD
BEGIN:DAYLIGHT
TZNAME:PDT
DTSTART:20190310T020000
TZOFFSETFROM:-0800
TZOFFSETTO:-0700
RDATE:20200308T020000
RDATE:20210314T020000
END:DAYLIGHT
END:VTIMEZONE
BEGIN:VEVENT
UID:317d0f19-56e2-4936-bd81-2d155c109f82
DTSTAMP:20260425T174808Z
DESCRIPTION:Doors open at 6:30pm for community social and no-host refreshme
 nts\, presentation begins at 7:00pm.\n\nJoin attorney Erin McCool as she o
 ffers an introduction to water rights law in Washington State. McCool will
  provide a history of how water code developed and how the court has inter
 preted the code over passing years. The discussion will also include curre
 nt issues in the private market\, as well as local issues that arise betwe
 en competing interests for a limited resource.\n\nMcCool is a Member at Og
 den Murphy Wallace PLLC and her practice emphasizes on general litigation\
 , employment & labor law\, land use and water law. She graduated from the 
 Marshall-Wythe School of Law at the College of William & Mary in Williamsb
 urg\, Virginia. Erin received her undergraduate degree from the University
  of Virginia in Environmental Science.\n\nA Wenatchee resident\, she is an
  active member of the community serving as the Legislative and Diversity D
 irector for the Apple Valley Human Resources Association\, and a current b
 oard member of the Chelan Douglas Volunteer Attorney Services.\n
DTSTART;TZID=America/Los_Angeles:20191023T190000
DTEND;TZID=America/Los_Angeles:20191023T203000
LOCATION:Red Barn\, Wenatchee River Institute\, 347 Division Street\, Leave
 nworth
SUMMARY:Red Barn Event: Water Rights
END:VEVENT
END:VCALENDAR
