BEGIN:VCALENDAR
VERSION:2.0
PRODID:-//wenatcheeriverinstitute.org//NONSGML kigkonsult.se iCalcreator 2.
 30.10//
CALSCALE:GREGORIAN
METHOD:PUBLISH
UID:3ec770b6-b115-438b-8da7-80736f7f977d
X-WR-CALDESC:Watch and help to set up a mock beaver trap\, see where the be
 avers are held and visit a few beaver relocation sites around the valley! 
 Trout Unlimited and WRI bring together this unique opportunity to learn ab
 out our valley’s local beaver project. \n\nTransportation: in WRI Otter Va
 n and small carpool\nAttendance limited to 15 people - Age limit: ages 8 a
 nd older\n$28 member\, $35 nonmembers\nLunch not included\n\nWe will start
  the day with a 30-45 minute presentation about beavers and our beaver-ins
 pired work. The presentation can be followed with a 20 minute demonstratio
 n of how we set up a live beaver trap. Then we will spend a couple hours v
 isiting a few implementation sites in the Leavenworth area\, with ample ti
 me for questions/discussion.\n\nPhoto credit: Wenatchee Beaver Project Fac
 ebook
X-WR-RELCALID:c527b0e500e0f85d79ae57af50cebed9
X-WR-TIMEZONE:America/Los_Angeles
BEGIN:VTIMEZONE
TZID:America/Los_Angeles
BEGIN:STANDARD
TZNAME:PST
DTSTART:20181104T020000
TZOFFSETFROM:-0700
TZOFFSETTO:-0800
RDATE:20191103T020000
RDATE:20201101T020000
END:STANDARD
BEGIN:DAYLIGHT
TZNAME:PDT
DTSTART:20190310T020000
TZOFFSETFROM:-0800
TZOFFSETTO:-0700
RDATE:20200308T020000
RDATE:20210314T020000
END:DAYLIGHT
END:VTIMEZONE
BEGIN:VEVENT
UID:0f412bcb-5ba1-48d7-bd6c-2f4439599079
DTSTAMP:20260419T211454Z
DESCRIPTION:Watch and help to set up a mock beaver trap\, see where the bea
 vers are held and visit a few beaver relocation sites around the valley! T
 rout Unlimited and WRI bring together this unique opportunity to learn abo
 ut our valley’s local beaver project. \n\nTransportation: in WRI Otter Van
  and small carpool\nAttendance limited to 15 people - Age limit: ages 8 an
 d older\n$28 member\, $35 nonmembers\nLunch not included\n\nWe will start 
 the day with a 30-45 minute presentation about beavers and our beaver-insp
 ired work. The presentation can be followed with a 20 minute demonstration
  of how we set up a live beaver trap. Then we will spend a couple hours vi
 siting a few implementation sites in the Leavenworth area\, with ample tim
 e for questions/discussion.\n\nPhoto credit: Wenatchee Beaver Project Face
 book
DTSTART;TZID=America/Los_Angeles:20191101T090000
DTEND;TZID=America/Los_Angeles:20191101T140000
LOCATION:Wenatchee River Institute
SUMMARY:Wenatchee Beaver Project Field Trip
END:VEVENT
END:VCALENDAR
