BEGIN:VCALENDAR
VERSION:2.0
PRODID:-//wenatcheeriverinstitute.org//NONSGML kigkonsult.se iCalcreator 2.
 30.10//
CALSCALE:GREGORIAN
METHOD:PUBLISH
UID:9a19fbfe-051f-4602-8a26-475ca5a48f12
X-WR-CALDESC:Pacific Lamprey are delightfully bizarre eel-like fish. Native
  to the mid and lower Columbia River\, this ancient species is among the m
 ost primitive of all vertebrates\, dating back 450 million years! Learn mo
 re about the amazing lamprey and their decline in population from Mid-Colu
 mbia Fish and Wildlife Conservation Office fish biologists\, Ann Grote and
  Barbara Kelly Ringel. \n\nDuring the event\, exciting items will be raffl
 ed –only $1 per ticket– to raise money for Wenatchee River Institute youth
  and adult programs connecting people\, communities and the natural world.
  Come out to 509 Bierwerks -200 S. Columbia St. in Wenatchee- on Nov. 6th 
 and get your science on!\n
X-WR-RELCALID:3ac6729cf5538b6976db9e0d719db49e
X-WR-TIMEZONE:America/Los_Angeles
BEGIN:VTIMEZONE
TZID:America/Los_Angeles
BEGIN:STANDARD
TZNAME:PST
DTSTART:20191103T020000
TZOFFSETFROM:-0700
TZOFFSETTO:-0800
RDATE:20201101T020000
END:STANDARD
BEGIN:DAYLIGHT
TZNAME:PDT
DTSTART:20190310T020000
TZOFFSETFROM:-0800
TZOFFSETTO:-0700
RDATE:20200308T020000
RDATE:20210314T020000
END:DAYLIGHT
END:VTIMEZONE
BEGIN:VEVENT
UID:fd6abb74-3d01-43f6-b8b0-a65408fcccbd
DTSTAMP:20260425T160710Z
DESCRIPTION:Pacific Lamprey are delightfully bizarre eel-like fish. Native 
 to the mid and lower Columbia River\, this ancient species is among the mo
 st primitive of all vertebrates\, dating back 450 million years! Learn mor
 e about the amazing lamprey and their decline in population from Mid-Colum
 bia Fish and Wildlife Conservation Office fish biologists\, Ann Grote and 
 Barbara Kelly Ringel. \n\nDuring the event\, exciting items will be raffle
 d –only $1 per ticket– to raise money for Wenatchee River Institute youth 
 and adult programs connecting people\, communities and the natural world. 
 Come out to 509 Bierwerks -200 S. Columbia St. in Wenatchee- on Nov. 6th a
 nd get your science on!\n
DTSTART;TZID=America/Los_Angeles:20191106T180000
DTEND;TZID=America/Los_Angeles:20191106T190000
LOCATION:509 Bierwerks - Wenatchee
SUMMARY:Science on Tap! Lamprey
END:VEVENT
END:VCALENDAR
