BEGIN:VCALENDAR
VERSION:2.0
PRODID:-//wenatcheeriverinstitute.org//NONSGML kigkonsult.se iCalcreator 2.
 30.10//
CALSCALE:GREGORIAN
METHOD:PUBLISH
UID:c43c1b69-72d3-4b94-809d-fd973d09fea5
X-WR-CALDESC:We all have stories to tell – wildlife encounters\, heart-poun
 ding adventures\, family trips gone awry\, and those that have forever cha
 nged lives. Join us for an evening of storytelling in the Red Barn. \n\nMe
 mbers of our community will be coming together for this exciting new Red B
 arn Event! Storytellers come from a range of backgrounds and will be shari
 ng their own 5-7 minute stories of adventure. \n\nStorytellers will includ
 e:\nAndy Dappen: “The ethical quandaries caused by a dead man”\nCarolyn Gr
 iffin-Bugert: “Love\, bicycle touring and a cyclone”\nMarlene Farrell: “To
  Wander and To Wonder on the PCT”\nKevin Farrell: “Seeing Eye-to-Eye with 
 a Whale”\nChandra Llewellyn: “Life lessons from invasive rats\, endangered
  coconut crabs and itchy mangos”\nSelina Danko:  “Lost in the fog: A Case 
 Study in Lost Person Behavior”\nMark Shipman: “Bivouacs I have enjoyed…and
  not so much!”\nJohn Place: TBD\nLynn Lyons: 'Skirting Danger in Yellowsto
 ne'\n\nDoors open at 6:30pm for community social and no-host bar\; present
 ation begins at 7:00pm.\n
X-WR-RELCALID:ace1410646f6d168c6711926f2bfef19
X-WR-TIMEZONE:America/Los_Angeles
BEGIN:VTIMEZONE
TZID:America/Los_Angeles
BEGIN:STANDARD
TZNAME:PST
DTSTART:20191103T020000
TZOFFSETFROM:-0700
TZOFFSETTO:-0800
RDATE:20201101T020000
END:STANDARD
BEGIN:DAYLIGHT
TZNAME:PDT
DTSTART:20190310T020000
TZOFFSETFROM:-0800
TZOFFSETTO:-0700
RDATE:20200308T020000
RDATE:20210314T020000
END:DAYLIGHT
END:VTIMEZONE
BEGIN:VEVENT
UID:c90feff3-080c-4fad-80b3-2270b53a026f
DTSTAMP:20260425T160625Z
DESCRIPTION:We all have stories to tell – wildlife encounters\, heart-pound
 ing adventures\, family trips gone awry\, and those that have forever chan
 ged lives. Join us for an evening of storytelling in the Red Barn. \n\nMem
 bers of our community will be coming together for this exciting new Red Ba
 rn Event! Storytellers come from a range of backgrounds and will be sharin
 g their own 5-7 minute stories of adventure. \n\nStorytellers will include
 :\nAndy Dappen: “The ethical quandaries caused by a dead man”\nCarolyn Gri
 ffin-Bugert: “Love\, bicycle touring and a cyclone”\nMarlene Farrell: “To 
 Wander and To Wonder on the PCT”\nKevin Farrell: “Seeing Eye-to-Eye with a
  Whale”\nChandra Llewellyn: “Life lessons from invasive rats\, endangered 
 coconut crabs and itchy mangos”\nSelina Danko:  “Lost in the fog: A Case S
 tudy in Lost Person Behavior”\nMark Shipman: “Bivouacs I have enjoyed…and 
 not so much!”\nJohn Place: TBD\nLynn Lyons: 'Skirting Danger in Yellowston
 e'\n\nDoors open at 6:30pm for community social and no-host bar\; presenta
 tion begins at 7:00pm.\n
DTSTART;TZID=America/Los_Angeles:20191107T190000
DTEND;TZID=America/Los_Angeles:20191107T203000
LOCATION:Red Barn\, 347 Division Street\, Leavenworth
SUMMARY:Red Barn Event: Adventures in Storytelling
END:VEVENT
END:VCALENDAR
