BEGIN:VCALENDAR
VERSION:2.0
PRODID:-//wenatcheeriverinstitute.org//NONSGML kigkonsult.se iCalcreator 2.
 30.10//
CALSCALE:GREGORIAN
METHOD:PUBLISH
UID:e34e220d-0af4-4f06-babe-e8a8f3b238c2
X-WR-CALDESC:Take care of your gear and it will take care of you!\nA partne
 rship between Waste Loop and Wenatchee River Institute!\nA Repair Café con
 nects people with broken stuff with people that like to fix stuff and have
  the experience to help others. Repairing instead of replacing prevents wa
 ste and saves resources. Doing it with other people makes it fun and culti
 vates community!  Learn new tips and tricks on the basics of gear repair a
 nd connect with a local expert on specifics for biking\, climbing\, hiking
  and paddling gear.  Expert helpers are problem solvers that will have too
 ls\, sewing machines and material that can help you find solutions!  We en
 courage folks to both bring in items to be fixed and any tools or resource
 s that can help others! \nFREE EVENT
X-WR-RELCALID:80deeff3e1f9119af9244a9f7751c084
X-WR-TIMEZONE:America/Los_Angeles
BEGIN:VTIMEZONE
TZID:America/Los_Angeles
BEGIN:STANDARD
TZNAME:PST
DTSTART:20191103T020000
TZOFFSETFROM:-0700
TZOFFSETTO:-0800
RDATE:20201101T020000
END:STANDARD
BEGIN:DAYLIGHT
TZNAME:PDT
DTSTART:20190310T020000
TZOFFSETFROM:-0800
TZOFFSETTO:-0700
RDATE:20200308T020000
RDATE:20210314T020000
END:DAYLIGHT
END:VTIMEZONE
BEGIN:VEVENT
UID:ae180e3b-dfd4-4abf-8532-eccd620248a3
DTSTAMP:20260421T230920Z
DESCRIPTION:Take care of your gear and it will take care of you!\nA partner
 ship between Waste Loop and Wenatchee River Institute!\nA Repair Café conn
 ects people with broken stuff with people that like to fix stuff and have 
 the experience to help others. Repairing instead of replacing prevents was
 te and saves resources. Doing it with other people makes it fun and cultiv
 ates community!  Learn new tips and tricks on the basics of gear repair an
 d connect with a local expert on specifics for biking\, climbing\, hiking 
 and paddling gear.  Expert helpers are problem solvers that will have tool
 s\, sewing machines and material that can help you find solutions!  We enc
 ourage folks to both bring in items to be fixed and any tools or resources
  that can help others! \nFREE EVENT
DTSTART;TZID=America/Los_Angeles:20191114T183000
DTEND;TZID=America/Los_Angeles:20191114T203000
LOCATION:WRI Red Barn
SUMMARY:Outdoor Gear Repair Cafe
END:VEVENT
END:VCALENDAR
