BEGIN:VCALENDAR
VERSION:2.0
PRODID:-//wenatcheeriverinstitute.org//NONSGML kigkonsult.se iCalcreator 2.
 30.10//
CALSCALE:GREGORIAN
METHOD:PUBLISH
UID:d85502b2-27b5-4410-b7ae-d48d837d70c7
X-WR-CALDESC:Get excited for winter with a showing of two ski and adventure
  films!\n\nGUILT TRIP - a climate change film with a skiing problem\nThe o
 nly thing greater than this group of skiers' desire to claim a first ski d
 escent on Greenland's second highest peak is the size of their carbon foot
 print to get there. Loaded with guilt\, they decide to bring along renowne
 d glaciologist\, Alun Hubbard\, who’s hypothesis\, if proven\, could rewri
 te popular projections of global sea-level rise. However\, the entire expe
 dition is put in question when they arrive in Greenland and discover their
  objective is beyond the range of all available aircraft.\n\nELECTRIC GREG
  - A carbon neutral quest to become a better adventurer\nRecord-breaking m
 ountain endurance athlete\, Greg Hill\, has never shied away from a goal. 
 Through his time spent in the mountains he's seen the effects of climate c
 hange first-hand and came to realize the way he was approaching the mounta
 ins was only making the problem worse. Two years ago he changed his approa
 ch and set out to climb 100 peaks without burning any fossil fuels. But th
 e question is: will it make a difference?\n\nPlease note\, films contain a
  few instances of adult language.\n\nDoors open at 6:30pm for community so
 cial and no-host bar\; films begin at 7:00pm. Free to attend. Donations ar
 e welcome.
X-WR-RELCALID:0fdd177299671dc06e2965097c2099e5
X-WR-TIMEZONE:America/Los_Angeles
BEGIN:VTIMEZONE
TZID:America/Los_Angeles
BEGIN:STANDARD
TZNAME:PST
DTSTART:20191103T020000
TZOFFSETFROM:-0700
TZOFFSETTO:-0800
RDATE:20201101T020000
END:STANDARD
BEGIN:DAYLIGHT
TZNAME:PDT
DTSTART:20190310T020000
TZOFFSETFROM:-0800
TZOFFSETTO:-0700
RDATE:20200308T020000
RDATE:20210314T020000
END:DAYLIGHT
END:VTIMEZONE
BEGIN:VEVENT
UID:6651bd60-2fea-4e0d-bb97-a93d65e38989
DTSTAMP:20260425T160716Z
DESCRIPTION:Get excited for winter with a showing of two ski and adventure 
 films!\n\nGUILT TRIP - a climate change film with a skiing problem\nThe on
 ly thing greater than this group of skiers' desire to claim a first ski de
 scent on Greenland's second highest peak is the size of their carbon footp
 rint to get there. Loaded with guilt\, they decide to bring along renowned
  glaciologist\, Alun Hubbard\, who’s hypothesis\, if proven\, could rewrit
 e popular projections of global sea-level rise. However\, the entire exped
 ition is put in question when they arrive in Greenland and discover their 
 objective is beyond the range of all available aircraft.\n\nELECTRIC GREG 
 - A carbon neutral quest to become a better adventurer\nRecord-breaking mo
 untain endurance athlete\, Greg Hill\, has never shied away from a goal. T
 hrough his time spent in the mountains he's seen the effects of climate ch
 ange first-hand and came to realize the way he was approaching the mountai
 ns was only making the problem worse. Two years ago he changed his approac
 h and set out to climb 100 peaks without burning any fossil fuels. But the
  question is: will it make a difference?\n\nPlease note\, films contain a 
 few instances of adult language.\n\nDoors open at 6:30pm for community soc
 ial and no-host bar\; films begin at 7:00pm. Free to attend. Donations are
  welcome.
DTSTART;TZID=America/Los_Angeles:20191120T190000
DTEND;TZID=America/Los_Angeles:20191120T203000
LOCATION:Red Barn\, 347 Division Street\, Leavenworth
SUMMARY:Red Barn Event: Guilt Trip\, a climate change film with a skiing pr
 oblem
END:VEVENT
END:VCALENDAR
