BEGIN:VCALENDAR
VERSION:2.0
PRODID:-//wenatcheeriverinstitute.org//NONSGML kigkonsult.se iCalcreator 2.
 30.10//
CALSCALE:GREGORIAN
METHOD:PUBLISH
UID:fe54974d-1519-4562-b2e1-a84fc22f4d75
X-WR-CALDESC:Cascades Wolverine Project is a grassroots effort to support w
 olverine recovery in the North Cascades. They do field science\, capture e
 ngaging images of this elusive mountain carnivore\, and build backcountry 
 community science and stewardship. This project is headed into its third w
 inter of wolverine monitoring in the North Cascades. In this Red Barn Even
 t\, Stephanie Williams\, project manager for Cascades Wolverine Project\, 
 will introduce the project\, and then share her knowledge about wolverine 
 ecology and conservation\, current research in the PNW\, and citizen scien
 ce among the winter recreation community\, particularly backcountry skiers
  and climbers.\n \nStephanie Williams is a professional mountain guide and
  field biologist\, as well as the project manager for the Cascades Wolveri
 ne Project. \n\nThis Red Barn Event will also include a raffle to support 
 the work of the Cascades Wolverine Project. The raffle prize is an 8x10'' 
 print on a 3/4 inch backing\, ready to hang\, by David Moskowitz as part o
 f the Cascades Wolverine Project of Stella\, the wolverine who lives up Ea
 rly Winters Creek near Washington Pass. The image can be seen above\, next
  to the Cascades Wolverine Project logo.\n\nDoors open at 6:30pm for commu
 nity social and no-host bar\; presentation begins at 7:00pm.\n\nEvent imag
 es provided courtesy of Cascades Wolverine Project.
X-WR-RELCALID:3ccda6a8ea6a31d85e03a31e99f32d08
X-WR-TIMEZONE:America/Los_Angeles
BEGIN:VTIMEZONE
TZID:America/Los_Angeles
BEGIN:STANDARD
TZNAME:PST
DTSTART:20191103T020000
TZOFFSETFROM:-0700
TZOFFSETTO:-0800
RDATE:20201101T020000
END:STANDARD
BEGIN:DAYLIGHT
TZNAME:PDT
DTSTART:20190310T020000
TZOFFSETFROM:-0800
TZOFFSETTO:-0700
RDATE:20200308T020000
RDATE:20210314T020000
END:DAYLIGHT
END:VTIMEZONE
BEGIN:VEVENT
UID:bc1db19e-b809-4c97-84d2-caa4c23c8c70
DTSTAMP:20260424T172048Z
DESCRIPTION:Cascades Wolverine Project is a grassroots effort to support wo
 lverine recovery in the North Cascades. They do field science\, capture en
 gaging images of this elusive mountain carnivore\, and build backcountry c
 ommunity science and stewardship. This project is headed into its third wi
 nter of wolverine monitoring in the North Cascades. In this Red Barn Event
 \, Stephanie Williams\, project manager for Cascades Wolverine Project\, w
 ill introduce the project\, and then share her knowledge about wolverine e
 cology and conservation\, current research in the PNW\, and citizen scienc
 e among the winter recreation community\, particularly backcountry skiers 
 and climbers.\n \nStephanie Williams is a professional mountain guide and 
 field biologist\, as well as the project manager for the Cascades Wolverin
 e Project. \n\nThis Red Barn Event will also include a raffle to support t
 he work of the Cascades Wolverine Project. The raffle prize is an 8x10'' p
 rint on a 3/4 inch backing\, ready to hang\, by David Moskowitz as part of
  the Cascades Wolverine Project of Stella\, the wolverine who lives up Ear
 ly Winters Creek near Washington Pass. The image can be seen above\, next 
 to the Cascades Wolverine Project logo.\n\nDoors open at 6:30pm for commun
 ity social and no-host bar\; presentation begins at 7:00pm.\n\nEvent image
 s provided courtesy of Cascades Wolverine Project.
DTSTART;TZID=America/Los_Angeles:20191204T190000
DTEND;TZID=America/Los_Angeles:20191204T203000
LOCATION:Red Barn\, 347 Division Street\, Leavenworth
SUMMARY:Red Barn Event: Stephanie Williams\, Cascades Wolverine Project
END:VEVENT
END:VCALENDAR
