BEGIN:VCALENDAR
VERSION:2.0
PRODID:-//wenatcheeriverinstitute.org//NONSGML kigkonsult.se iCalcreator 2.
 30.10//
CALSCALE:GREGORIAN
METHOD:PUBLISH
UID:8b86b0f0-4936-4e28-b9f0-8266acb741df
X-WR-CALDESC:Embrace the coming winter season by joining Wenatchee River In
 stitute and artist\, florist and event planner Amy Wall\, of Cashmere’s Sa
 lt of The Earth\, to craft a festive wreath and cheer up chilly days. Ther
 e are two times available for the wreath class on Friday\, Dec. 13 - one f
 rom 9:30 to 11:30AM and a second from 12:30-2:30PM. \n\nWall\, who dreams 
 in beautiful lush florals accented with vintage chic\, will lead the class
  and provide all of the materials needed to create your own unique wreath 
 from natural greenery and ribbon bling. “I love making wreaths and have th
 em all over my home!” said Wall.\n\n‘Tis the season and crafting wreaths w
 ill help keep you jolly! Space is limited so please\, register soon. This 
 workshop is for ages 16 and over\, $28 for WRI-Members and $35 for Non-Mem
 bers. \n\n
X-WR-RELCALID:fefeb307eadcb543ceefba957e78daf3
X-WR-TIMEZONE:America/Los_Angeles
BEGIN:VTIMEZONE
TZID:America/Los_Angeles
BEGIN:STANDARD
TZNAME:PST
DTSTART:20191103T020000
TZOFFSETFROM:-0700
TZOFFSETTO:-0800
RDATE:20201101T020000
END:STANDARD
BEGIN:DAYLIGHT
TZNAME:PDT
DTSTART:20190310T020000
TZOFFSETFROM:-0800
TZOFFSETTO:-0700
RDATE:20200308T020000
RDATE:20210314T020000
END:DAYLIGHT
END:VTIMEZONE
BEGIN:VEVENT
UID:f04c8efd-4e3a-471d-b8a5-4d8919ba4312
DTSTAMP:20260425T143818Z
DESCRIPTION:Embrace the coming winter season by joining Wenatchee River Ins
 titute and artist\, florist and event planner Amy Wall\, of Cashmere’s Sal
 t of The Earth\, to craft a festive wreath and cheer up chilly days. There
  are two times available for the wreath class on Friday\, Dec. 13 - one fr
 om 9:30 to 11:30AM and a second from 12:30-2:30PM. \n\nWall\, who dreams i
 n beautiful lush florals accented with vintage chic\, will lead the class 
 and provide all of the materials needed to create your own unique wreath f
 rom natural greenery and ribbon bling. “I love making wreaths and have the
 m all over my home!” said Wall.\n\n‘Tis the season and crafting wreaths wi
 ll help keep you jolly! Space is limited so please\, register soon. This w
 orkshop is for ages 16 and over\, $28 for WRI-Members and $35 for Non-Memb
 ers. \n\n
DTSTART;TZID=America/Los_Angeles:20191213T123000
DTEND;TZID=America/Los_Angeles:20191213T143000
LOCATION:Wenatchee River Institute
SUMMARY:FULL Winter Wreath Class
END:VEVENT
END:VCALENDAR
