BEGIN:VCALENDAR
VERSION:2.0
PRODID:-//wenatcheeriverinstitute.org//NONSGML kigkonsult.se iCalcreator 2.
 30.10//
CALSCALE:GREGORIAN
METHOD:PUBLISH
UID:09762792-eee2-41c8-b817-ae9c1b9b94d6
X-WR-CALDESC:Are you looking for ways to reduce your plastic and carbon foo
 tprint? This is one step toward that goal! Join WRI and Leavenworth's\, Th
 e Bubblery: A Soap Company\, for a class on making your own shampoo and co
 nditioner bars. Shawna Lassen\, owner of The Bubblery\, will teach you how
  to take the step away from commercial shampoos and conditioners which are
  often made with harsh ingredients and in plastic containers that aren’t e
 asily recycled. \n\nWe will be formulating a pre-made base that is palm fr
 ee\, sulfate free and vegan for your own hair type\, and learning how to b
 lend essential oils and herbs that benefit your hair. Shawna will have sev
 eral options\, such as charcoal\, coconut oil\, fresh and dried rosemary\,
  orange peel\, lemon peel and many different types of essential oils. Each
  participant will leave with a shampoo and conditioner bar!\nNo lye will b
 e used in this class so all are welcome to come! \n\nCost: $38 members\, $
 45 non-members\nLimit of 15 participants.\nNo need to bring anything! Plea
 se wear clothing that you don't mind getting a little oily or soapy.
X-WR-RELCALID:6576db7bec6ecd4e202fb563837837fc
X-WR-TIMEZONE:America/Los_Angeles
BEGIN:VTIMEZONE
TZID:America/Los_Angeles
BEGIN:STANDARD
TZNAME:PST
DTSTART:20191103T020000
TZOFFSETFROM:-0700
TZOFFSETTO:-0800
RDATE:20201101T020000
END:STANDARD
BEGIN:DAYLIGHT
TZNAME:PDT
DTSTART:20190310T020000
TZOFFSETFROM:-0800
TZOFFSETTO:-0700
RDATE:20200308T020000
RDATE:20210314T020000
END:DAYLIGHT
END:VTIMEZONE
BEGIN:VEVENT
UID:1cc549b6-efd3-47a8-9566-eadf4a96c3ae
DTSTAMP:20260425T125633Z
DESCRIPTION:Are you looking for ways to reduce your plastic and carbon foot
 print? This is one step toward that goal! Join WRI and Leavenworth's\, The
  Bubblery: A Soap Company\, for a class on making your own shampoo and con
 ditioner bars. Shawna Lassen\, owner of The Bubblery\, will teach you how 
 to take the step away from commercial shampoos and conditioners which are 
 often made with harsh ingredients and in plastic containers that aren’t ea
 sily recycled. \n\nWe will be formulating a pre-made base that is palm fre
 e\, sulfate free and vegan for your own hair type\, and learning how to bl
 end essential oils and herbs that benefit your hair. Shawna will have seve
 ral options\, such as charcoal\, coconut oil\, fresh and dried rosemary\, 
 orange peel\, lemon peel and many different types of essential oils. Each 
 participant will leave with a shampoo and conditioner bar!\nNo lye will be
  used in this class so all are welcome to come! \n\nCost: $38 members\, $4
 5 non-members\nLimit of 15 participants.\nNo need to bring anything! Pleas
 e wear clothing that you don't mind getting a little oily or soapy.
DTSTART;TZID=America/Los_Angeles:20200116T180000
DTEND;TZID=America/Los_Angeles:20200116T193000
LOCATION:Wenatchee River Institute Red Barn
SUMMARY:DIY Shampoo and Conditioner Bar Class
END:VEVENT
END:VCALENDAR
