BEGIN:VCALENDAR
VERSION:2.0
PRODID:-//wenatcheeriverinstitute.org//NONSGML kigkonsult.se iCalcreator 2.
 30.10//
CALSCALE:GREGORIAN
METHOD:PUBLISH
UID:22f58c4c-eced-4fe8-9e14-8d2c7e1d3c07
X-WR-CALDESC:Travel through space and time while exploring our solar system
 \, and beyond! Witness the night sky during different seasons throughout t
 he year\, learn winter constellations and get to know our sun\, moon and s
 tars like never before. We will start our evening by entering our dome sha
 ped planetarium for a realistic view of our night sky before heading out o
 n snowshoes to see the real thing! \n\nCost: $22 member\, $28 nonmember\nL
 imit of 16 people\nSnowshoes available for all\, hot cocoa to warm our bel
 lies after!
X-WR-RELCALID:5d7c8a1ca2481d9ca18a0535ebc31e29
X-WR-TIMEZONE:America/Los_Angeles
BEGIN:VTIMEZONE
TZID:America/Los_Angeles
BEGIN:STANDARD
TZNAME:PST
DTSTART:20191103T020000
TZOFFSETFROM:-0700
TZOFFSETTO:-0800
RDATE:20201101T020000
END:STANDARD
BEGIN:DAYLIGHT
TZNAME:PDT
DTSTART:20190310T020000
TZOFFSETFROM:-0800
TZOFFSETTO:-0700
RDATE:20200308T020000
RDATE:20210314T020000
END:DAYLIGHT
END:VTIMEZONE
BEGIN:VEVENT
UID:145ffaa3-9fc0-48fb-8283-304042ed1c43
DTSTAMP:20260425T125729Z
DESCRIPTION:Travel through space and time while exploring our solar system\
 , and beyond! Witness the night sky during different seasons throughout th
 e year\, learn winter constellations and get to know our sun\, moon and st
 ars like never before. We will start our evening by entering our dome shap
 ed planetarium for a realistic view of our night sky before heading out on
  snowshoes to see the real thing! \n\nCost: $22 member\, $28 nonmember\nLi
 mit of 16 people\nSnowshoes available for all\, hot cocoa to warm our bell
 ies after!
DTSTART;TZID=America/Los_Angeles:20200124T170000
DTEND;TZID=America/Los_Angeles:20200124T193000
LOCATION:Wenatchee River Institute
SUMMARY:Moonlight Snowshoe Stroll with Planetarium Extravaganza!
END:VEVENT
END:VCALENDAR
