BEGIN:VCALENDAR
VERSION:2.0
PRODID:-//wenatcheeriverinstitute.org//NONSGML kigkonsult.se iCalcreator 2.
 30.10//
CALSCALE:GREGORIAN
METHOD:PUBLISH
UID:e0dc43a6-4a20-4878-b64f-2aad88b87085
X-WR-CALDESC:
X-WR-RELCALID:5a0e567196efa8f9bbd0c2b340a9a587
X-WR-TIMEZONE:America/Los_Angeles
BEGIN:VTIMEZONE
TZID:America/Los_Angeles
BEGIN:STANDARD
TZNAME:PST
DTSTART:20191103T020000
TZOFFSETFROM:-0700
TZOFFSETTO:-0800
RDATE:20201101T020000
END:STANDARD
BEGIN:DAYLIGHT
TZNAME:PDT
DTSTART:20190310T020000
TZOFFSETFROM:-0800
TZOFFSETTO:-0700
RDATE:20200308T020000
RDATE:20210314T020000
END:DAYLIGHT
END:VTIMEZONE
BEGIN:VEVENT
UID:1a278d52-e596-4e68-9d9c-a8aeae8baeb3
DTSTAMP:20260425T125729Z
DESCRIPTION:
DTSTART;TZID=America/Los_Angeles:20200130T170000
DTEND;TZID=America/Los_Angeles:20200130T193000
LOCATION:
SUMMARY:Planetarium - Family Science Night
END:VEVENT
END:VCALENDAR
