BEGIN:VCALENDAR
VERSION:2.0
PRODID:-//wenatcheeriverinstitute.org//NONSGML kigkonsult.se iCalcreator 2.
 30.10//
CALSCALE:GREGORIAN
METHOD:PUBLISH
UID:2aee2f24-2451-41c7-9214-8633c0ac13c0
X-WR-CALDESC:Every human on earth has a unique genetic code! It helps deter
 mine who we are\, what we look like and our overall health and well-being.
   This genetic code is called the human genome\, and is unimaginably large
 \, consisting of more than three billion letters when written down.\n\nTod
 ay\, technology advances have enabled opportunities to better understand y
 our family history and ancestry\, predisposition to disease and your overa
 ll health and well-being.  In this presentation\, Sean Mooney\, PhD\, Prof
 essor\, Biomedical Informatics and Medical Education\, UW Medicine fellow\
 , will describe the human genetic code and what it means to you. He will a
 lso describe how it can determine your family tree and ancestry. \n\nJoin 
 us at Badger Mountain Brewing in Wenatchee 6pm-7pm\nThis event is free\, d
 onations are appreciated! We will be having a raffle to raise funds for WR
 I as well
X-WR-RELCALID:57c44b2aa74c66d5a3a80c0ff9c8a341
X-WR-TIMEZONE:America/Los_Angeles
BEGIN:VTIMEZONE
TZID:America/Los_Angeles
BEGIN:STANDARD
TZNAME:PST
DTSTART:20191103T020000
TZOFFSETFROM:-0700
TZOFFSETTO:-0800
RDATE:20201101T020000
END:STANDARD
BEGIN:DAYLIGHT
TZNAME:PDT
DTSTART:20190310T020000
TZOFFSETFROM:-0800
TZOFFSETTO:-0700
RDATE:20200308T020000
RDATE:20210314T020000
END:DAYLIGHT
END:VTIMEZONE
BEGIN:VEVENT
UID:07877dfc-93aa-4764-8dba-edd0a09e1966
DTSTAMP:20260425T125552Z
DESCRIPTION:Every human on earth has a unique genetic code! It helps determ
 ine who we are\, what we look like and our overall health and well-being. 
  This genetic code is called the human genome\, and is unimaginably large\
 , consisting of more than three billion letters when written down.\n\nToda
 y\, technology advances have enabled opportunities to better understand yo
 ur family history and ancestry\, predisposition to disease and your overal
 l health and well-being.  In this presentation\, Sean Mooney\, PhD\, Profe
 ssor\, Biomedical Informatics and Medical Education\, UW Medicine fellow\,
  will describe the human genetic code and what it means to you. He will al
 so describe how it can determine your family tree and ancestry. \n\nJoin u
 s at Badger Mountain Brewing in Wenatchee 6pm-7pm\nThis event is free\, do
 nations are appreciated! We will be having a raffle to raise funds for WRI
  as well
DTSTART;TZID=America/Los_Angeles:20200130T180000
DTEND;TZID=America/Los_Angeles:20200130T190000
LOCATION:Badger Mountain Brewing
SUMMARY:Science on Tap! Human Genomes
END:VEVENT
END:VCALENDAR
