BEGIN:VCALENDAR
VERSION:2.0
PRODID:-//wenatcheeriverinstitute.org//NONSGML kigkonsult.se iCalcreator 2.
 30.10//
CALSCALE:GREGORIAN
METHOD:PUBLISH
UID:d124a5c1-b36c-40f3-be74-3021cb390120
X-WR-CALDESC:Spend two full days in the greater Leavenworth area\, with pro
 fessional wildlife tracker\, naturalist\, educator and author\, David Mosk
 owitz. This class is a wildlife track and sign certification class through
  CyberTracker North America.  David's approach to this class is highly int
 eractive\, engaging participants in identification and interpretation of t
 racks and signs. Lots of time for questions and discussion is built in. Th
 is style is an excellent way to learn and investigate\, with the chance to
  achieve a wildlife tracking certificate through Cybertracker Conservation
 . Certificates are awarded on three levels. You will not want to miss this
  opportunity!\n\nCybertracker classes provide an opportunity for quality\,
  focused learning from some of the best trackers in the country. They are 
 designed to further participant's tracking knowledge\, as well as to rigor
 ously test and document their current tracking skill set. Originally desig
 ned to help African Bushmen gain employment on game preserves\, they also 
 provide an internationally recognized certification of tracking ability\, 
 an important credential for wildlife researchers and environmental educato
 rs as well as for people who want to test and push their own ability. Eval
 uations are entirely field based\, striving to expose participants to the 
 widest range of tracks and signs as possible. Discussions are encouraged\,
  giving participants a chance to air their thoughts and receive individual
 ized instruction.\n\nCost: $290 members\, $330 non-members\nFood and lodgi
 ng not included. Limit of 10 participants!\n\nLOOKING FOR HOUSING?\nIf you
 ’re coming in from out of town\, consider staying with our partner\, Sleep
 ing Lady Mountain Resort.  They’re offering a Bed and Breakfast package Fr
 iday\, February 7 and Saturday\, February 8\, 2020.  B & B rates start at 
 $193 ($212.42 with tax)\, per night based on single occupancy or $108 ($11
 8.67 with tax) per person\, per night based on double occupancy. To reserv
 e\, visit www.sleepinglady.com and enter promo code WRI or call 800-574-21
 23 and identify yourself as attending WRI’s Cascades Wildlife Tracking Cer
 tification Class.   When you stay\, you give at Sleeping Lady\, which in t
 urn gives back to Wenatchee River Institute!  Learn more by clicking the S
 leeping Lady Mountain Resort link below.
X-WR-RELCALID:e26d1e67ea3613afda02abacd0c8545a
X-WR-TIMEZONE:America/Los_Angeles
BEGIN:VTIMEZONE
TZID:America/Los_Angeles
BEGIN:STANDARD
TZNAME:PST
DTSTART:20191103T020000
TZOFFSETFROM:-0700
TZOFFSETTO:-0800
RDATE:20201101T020000
END:STANDARD
BEGIN:DAYLIGHT
TZNAME:PDT
DTSTART:20190310T020000
TZOFFSETFROM:-0800
TZOFFSETTO:-0700
RDATE:20200308T020000
RDATE:20210314T020000
END:DAYLIGHT
END:VTIMEZONE
BEGIN:VEVENT
UID:fe0e3e5e-5609-436a-9282-f5d58e368360
DTSTAMP:20260425T112420Z
DESCRIPTION:Spend two full days in the greater Leavenworth area\, with prof
 essional wildlife tracker\, naturalist\, educator and author\, David Mosko
 witz. This class is a wildlife track and sign certification class through 
 CyberTracker North America.  David's approach to this class is highly inte
 ractive\, engaging participants in identification and interpretation of tr
 acks and signs. Lots of time for questions and discussion is built in. Thi
 s style is an excellent way to learn and investigate\, with the chance to 
 achieve a wildlife tracking certificate through Cybertracker Conservation.
  Certificates are awarded on three levels. You will not want to miss this 
 opportunity!\n\nCybertracker classes provide an opportunity for quality\, 
 focused learning from some of the best trackers in the country. They are d
 esigned to further participant's tracking knowledge\, as well as to rigoro
 usly test and document their current tracking skill set. Originally design
 ed to help African Bushmen gain employment on game preserves\, they also p
 rovide an internationally recognized certification of tracking ability\, a
 n important credential for wildlife researchers and environmental educator
 s as well as for people who want to test and push their own ability. Evalu
 ations are entirely field based\, striving to expose participants to the w
 idest range of tracks and signs as possible. Discussions are encouraged\, 
 giving participants a chance to air their thoughts and receive individuali
 zed instruction.\n\nCost: $290 members\, $330 non-members\nFood and lodgin
 g not included. Limit of 10 participants!\n\nLOOKING FOR HOUSING?\nIf you’
 re coming in from out of town\, consider staying with our partner\, Sleepi
 ng Lady Mountain Resort.  They’re offering a Bed and Breakfast package Fri
 day\, February 7 and Saturday\, February 8\, 2020.  B & B rates start at $
 193 ($212.42 with tax)\, per night based on single occupancy or $108 ($118
 .67 with tax) per person\, per night based on double occupancy. To reserve
 \, visit www.sleepinglady.com and enter promo code WRI or call 800-574-212
 3 and identify yourself as attending WRI’s Cascades Wildlife Tracking Cert
 ification Class.   When you stay\, you give at Sleeping Lady\, which in tu
 rn gives back to Wenatchee River Institute!  Learn more by clicking the Sl
 eeping Lady Mountain Resort link below.
DTSTART;TZID=America/Los_Angeles:20200208T090000
DTEND;TZID=America/Los_Angeles:20200209T170000
LOCATION:Wenatchee River Institute
SUMMARY:Cascades Wildlife Tracking Certification Class with David Moskowitz
END:VEVENT
END:VCALENDAR
