BEGIN:VCALENDAR
VERSION:2.0
PRODID:-//wenatcheeriverinstitute.org//NONSGML kigkonsult.se iCalcreator 2.
 30.10//
CALSCALE:GREGORIAN
METHOD:PUBLISH
UID:cca411f5-fa39-4cdc-96b8-e0eedbbecbb5
X-WR-CALDESC:Do you fly fish? Would you like to fly fish? You need flies! 
 \nCome learn the basics of fly tying to make you successful as you fish ou
 r local rivers! There is nothing like catching a fish with a fly you hand 
 tied!\n\nPRICE: $70-non member\, $60- member. Each ticket includes all fiv
 e nights\n\nFive Tuesdays beginning February 11th through March 10th.\n6:0
 0pm - 8:00pm\n\nEnjoy small group instruction provided by the Wenatchee Va
 lley Fly Fishers and assisted by Trout Unlimited. Learn about fly fishing 
 equipment\, philosophy and the basic entomological connections between aqu
 atic food sources and local fish (with minimal Latin). Each student will w
 alk away with an understanding of beginning fly tying techniques\, includi
 ng the use of tools and various fly tying materials enabling independent t
 ying of diverse patterns. All materials and tools are provided and student
 s will leave with 6-8 flies to get started on fishing adventures! \n\nClas
 s size is limited to 12\n\nAges: 15+\nSkill Level: Beginner - Intermediate
X-WR-RELCALID:1329840a706a741b119c1e7dea6c4250
X-WR-TIMEZONE:America/Los_Angeles
BEGIN:VTIMEZONE
TZID:America/Los_Angeles
BEGIN:STANDARD
TZNAME:PST
DTSTART:20191103T020000
TZOFFSETFROM:-0700
TZOFFSETTO:-0800
RDATE:20201101T020000
END:STANDARD
BEGIN:DAYLIGHT
TZNAME:PDT
DTSTART:20190310T020000
TZOFFSETFROM:-0800
TZOFFSETTO:-0700
RDATE:20200308T020000
RDATE:20210314T020000
END:DAYLIGHT
END:VTIMEZONE
BEGIN:VEVENT
UID:e3365a90-74eb-43b5-920d-3c6db62e2df3
DTSTAMP:20260425T112317Z
DESCRIPTION:Do you fly fish? Would you like to fly fish? You need flies! \n
 Come learn the basics of fly tying to make you successful as you fish our 
 local rivers! There is nothing like catching a fish with a fly you hand ti
 ed!\n\nPRICE: $70-non member\, $60- member. Each ticket includes all five 
 nights\n\nFive Tuesdays beginning February 11th through March 10th.\n6:00p
 m - 8:00pm\n\nEnjoy small group instruction provided by the Wenatchee Vall
 ey Fly Fishers and assisted by Trout Unlimited. Learn about fly fishing eq
 uipment\, philosophy and the basic entomological connections between aquat
 ic food sources and local fish (with minimal Latin). Each student will wal
 k away with an understanding of beginning fly tying techniques\, including
  the use of tools and various fly tying materials enabling independent tyi
 ng of diverse patterns. All materials and tools are provided and students 
 will leave with 6-8 flies to get started on fishing adventures! \n\nClass 
 size is limited to 12\n\nAges: 15+\nSkill Level: Beginner - Intermediate
DTSTART;TZID=America/Los_Angeles:20200211T180000
DTEND;TZID=America/Los_Angeles:20200211T200000
LOCATION:Red Barn
SUMMARY:Fly Tying Series-FULL
END:VEVENT
END:VCALENDAR
