BEGIN:VCALENDAR
VERSION:2.0
PRODID:-//wenatcheeriverinstitute.org//NONSGML kigkonsult.se iCalcreator 2.
 30.10//
CALSCALE:GREGORIAN
METHOD:PUBLISH
UID:45a14820-62f6-482c-9b90-404ec608bb22
X-WR-CALDESC:In July 2019\, Gordon Congdon\, Paul Hessburg\, Gary Womeldorf
 f\, and Andy Dappen spent 23 days canoeing the Hood River\, an Arctic rive
 r flowing northeasterly from the lakes of Nunavut (northern Canada) to the
  Arctic Sound. In the late-1840s\, the Hood was the drainage where some me
 mbers of the doomed Franklin Expedition met their end as they attempted to
  travel overland from their icebound ships in the Arctic Ocean to Yellowkn
 ife\, Canada.\n\nIn modern times\, the Hood’s wildlife and rapids make it 
 one of the premier northern rivers to canoe. Despite the river’s appeal\, 
 its remoteness and rigors mean only a few groups paddle it each year. 'We 
 felt it important to do the river sooner than later\,' says Dappen\, 'part
 ly because we were still fit enough for all the portaging\, partly because
  the Arctic was changing so fast.'\n\nThe presentation\, part discussion a
 nd part slideshow set to ballad poetry written by Paul Hessburg during the
  journey\, captures the essence of the adventure while describing the scop
 e\, scale and importance of what's being lost in the vanishing Arctic.\nDo
 ors open at 6:30pm for community social and no-host bar\; presentation beg
 ins at 7:00pm.\n
X-WR-RELCALID:46133f72daad6bf387272750d77cc03a
X-WR-TIMEZONE:America/Los_Angeles
BEGIN:VTIMEZONE
TZID:America/Los_Angeles
BEGIN:STANDARD
TZNAME:PST
DTSTART:20191103T020000
TZOFFSETFROM:-0700
TZOFFSETTO:-0800
RDATE:20201101T020000
END:STANDARD
BEGIN:DAYLIGHT
TZNAME:PDT
DTSTART:20190310T020000
TZOFFSETFROM:-0800
TZOFFSETTO:-0700
RDATE:20200308T020000
RDATE:20210314T020000
END:DAYLIGHT
END:VTIMEZONE
BEGIN:VEVENT
UID:84552f87-d140-4d9f-bcc1-49e11b66445c
DTSTAMP:20260425T113108Z
DESCRIPTION:In July 2019\, Gordon Congdon\, Paul Hessburg\, Gary Womeldorff
 \, and Andy Dappen spent 23 days canoeing the Hood River\, an Arctic river
  flowing northeasterly from the lakes of Nunavut (northern Canada) to the 
 Arctic Sound. In the late-1840s\, the Hood was the drainage where some mem
 bers of the doomed Franklin Expedition met their end as they attempted to 
 travel overland from their icebound ships in the Arctic Ocean to Yellowkni
 fe\, Canada.\n\nIn modern times\, the Hood’s wildlife and rapids make it o
 ne of the premier northern rivers to canoe. Despite the river’s appeal\, i
 ts remoteness and rigors mean only a few groups paddle it each year. 'We f
 elt it important to do the river sooner than later\,' says Dappen\, 'partl
 y because we were still fit enough for all the portaging\, partly because 
 the Arctic was changing so fast.'\n\nThe presentation\, part discussion an
 d part slideshow set to ballad poetry written by Paul Hessburg during the 
 journey\, captures the essence of the adventure while describing the scope
 \, scale and importance of what's being lost in the vanishing Arctic.\nDoo
 rs open at 6:30pm for community social and no-host bar\; presentation begi
 ns at 7:00pm.\n
DTSTART;TZID=America/Los_Angeles:20200212T190000
DTEND;TZID=America/Los_Angeles:20200212T203000
LOCATION:Red Barn\, 347 Division Street\, Leavenworth
SUMMARY:Red Barn Event: Canoeing the Hood River -- An Adventure to the Vani
 shing Arctic
END:VEVENT
END:VCALENDAR
