BEGIN:VCALENDAR
VERSION:2.0
PRODID:-//wenatcheeriverinstitute.org//NONSGML kigkonsult.se iCalcreator 2.
 30.10//
CALSCALE:GREGORIAN
METHOD:PUBLISH
UID:b4f51c6a-a667-4e7e-9d20-2ff64ba7f0f8
X-WR-CALDESC:Do you fly fish? Would you like to fly fish? You need flies! C
 ome learn the basics of fly tying to make you successful as you fish our l
 ocal rivers. There is nothing like catching a fish with a fly you hand tie
 d\n\nEnjoy small group instruction provided by the Wenatchee Valley Fly Fi
 shers and assisted by Trout Unlimited. Learn about fly fishing equipment\,
  philosophy and the basic entomological connections between aquatic food s
 ources and local fish (with minimal Latin). Each student will walk away wi
 th an understanding of beginning fly tying techniques\, including the use 
 of tools and various fly tying materials enabling independent tying of div
 erse patterns. All materials and tools are provided and students will leav
 e with 6-8 flies to get started on fishing adventures! \n\nFive Tuesdays b
 eginning February 11th through March 10th\, 6:00-8:00PM each night. Cost: 
 $60 WRI-Members and $70 Non-members and each ticket includes all 5 nights.
  Class size is limited to 12 for ages 15 and up and skill level beginner -
  intermediate.
X-WR-RELCALID:c867a5add64b42617b1c41bc0c352ee9
X-WR-TIMEZONE:America/Los_Angeles
BEGIN:VTIMEZONE
TZID:America/Los_Angeles
BEGIN:STANDARD
TZNAME:PST
DTSTART:20191103T020000
TZOFFSETFROM:-0700
TZOFFSETTO:-0800
RDATE:20201101T020000
END:STANDARD
BEGIN:DAYLIGHT
TZNAME:PDT
DTSTART:20190310T020000
TZOFFSETFROM:-0800
TZOFFSETTO:-0700
RDATE:20200308T020000
RDATE:20210314T020000
END:DAYLIGHT
END:VTIMEZONE
BEGIN:VEVENT
UID:7d8c0b74-f866-4f88-97d0-90e9c3ce3d32
DTSTAMP:20260425T112542Z
DESCRIPTION:Do you fly fish? Would you like to fly fish? You need flies! Co
 me learn the basics of fly tying to make you successful as you fish our lo
 cal rivers. There is nothing like catching a fish with a fly you hand tied
 \n\nEnjoy small group instruction provided by the Wenatchee Valley Fly Fis
 hers and assisted by Trout Unlimited. Learn about fly fishing equipment\, 
 philosophy and the basic entomological connections between aquatic food so
 urces and local fish (with minimal Latin). Each student will walk away wit
 h an understanding of beginning fly tying techniques\, including the use o
 f tools and various fly tying materials enabling independent tying of dive
 rse patterns. All materials and tools are provided and students will leave
  with 6-8 flies to get started on fishing adventures! \n\nFive Tuesdays be
 ginning February 11th through March 10th\, 6:00-8:00PM each night. Cost: $
 60 WRI-Members and $70 Non-members and each ticket includes all 5 nights. 
 Class size is limited to 12 for ages 15 and up and skill level beginner - 
 intermediate.
DTSTART;TZID=America/Los_Angeles:20200218T180000
DTEND;TZID=America/Los_Angeles:20200218T200000
LOCATION:The Red Barn at Wenatchee River Institute
SUMMARY:Fly Tying Series-FULL
END:VEVENT
END:VCALENDAR
